BEGIN:VCALENDAR
VERSION:2.0
PRODID:-//wp-events-plugin.com//7.2.3.1//EN
TZID:Europe/Paris
X-WR-TIMEZONE:Europe/Paris
BEGIN:VEVENT
UID:2109@bananierbleu.fr
DTSTART;TZID=Europe/Paris:20170325T213000
DTEND;TZID=Europe/Paris:20170325T213000
DTSTAMP:20170213T081145Z
URL:https://bananierbleu.fr/concerts-test/herve-samb-teranga/
SUMMARY:Hervé Samb "Teranga" - Sunset - 25 Mar 17 21:30
DESCRIPTION:Khady Mbaye - chant \; Hervé Samb - guitare \; Gino Chantoisea
 u - basse\, c.basse \; Ndiaw Macodou Ndiaye - batterie \; Mor Junior Ndiay
 e - sabar &nbsp\;percussions&nbsp\;\n\n\nAprès ses récentes collaboratio
 ns avec Marcus Miller\, Salif Keïta\, Lisa Simone... le guitariste compos
 iteur aux multiples facettes\, Hervé Samb\, nous présente en avant premi
 ère son concept "Jazz Sabar" de son nouveau projet "Teranga". Un subtile 
 mélange entre musique du répertoire traditionnel sénégalais et Jazz. L
 e tout accompagné par des percussions "Sabar" du Sénégal.\nJazz guitari
 st Hervé Samb presents his new project&nbsp\;"Teranga"\, between jazz and
  traditional music from Senegal.\n\n
ATTACH;FMTTYPE=image/jpeg:https://bananierbleu.fr/wp-content/uploads/2017/
 02/Samb.Herve_.avr_.08-web.jpg
CATEGORIES:Concerts en France
LOCATION:Sunset\, 60 rue des Lombards\, Paris\, Île de France\, 75001\, Il
 eDeFrance\, France
GEO:48.859937;2.347751
X-APPLE-STRUCTURED-LOCATION;VALUE=URI;X-ADDRESS=60 rue des Lombards\, Paris
 \, Île de France\, 75001\, IleDeFrance\, France;X-APPLE-RADIUS=100;X-TITL
 E=Sunset:geo:48.859937,2.347751
END:VEVENT
BEGIN:VTIMEZONE
TZID:Europe/Paris
X-LIC-LOCATION:Europe/Paris
BEGIN:STANDARD
DTSTART:20161030T020000
TZOFFSETFROM:+0200
TZOFFSETTO:+0100
TZNAME:CET
END:STANDARD
END:VTIMEZONE
END:VCALENDAR