BEGIN:VCALENDAR
VERSION:2.0
PRODID:-//wp-events-plugin.com//7.2.3.1//EN
TZID:Europe/Paris
X-WR-TIMEZONE:Europe/Paris
BEGIN:VEVENT
UID:2413@bananierbleu.fr
DTSTART;TZID=Europe/Paris:20171021T203000
DTEND;TZID=Europe/Paris:20171021T203000
DTSTAMP:20171016T133444Z
URL:https://bananierbleu.fr/concerts-test/iguane-xtet-10/
SUMMARY:Iguane Xtet - La Créole Jazz Club - 21 Oct 17 20:30
DESCRIPTION:Rendez-vous samedi 21 octobre à La Créole Jazz Club\, pour d
 écouvrir ou redécouvrir la musique d’Iguane xtet\, en énergie et poé
 sie.\n\nAlain Joséphine (sax)\nFabrice Fanfant (basse)\nNicolas Attie (gu
 itare)\nÉric Danquin (batterie)
ATTACH;FMTTYPE=image/jpeg:https://bananierbleu.fr/wp-content/uploads/2017/
 10/22539842_1587272688002626_1764093197653585157_n.jpg
CATEGORIES:Concerts en Guadeloupe
LOCATION:La Créole Jazz Club\, Pointe de la Verdure\, Le Gosier\, Guadelou
 pe\, 97190\, Guadeloupe\, Guadeloupe
GEO:16.206832;-61.50359980000002
X-APPLE-STRUCTURED-LOCATION;VALUE=URI;X-ADDRESS=Pointe de la Verdure\, Le G
 osier\, Guadeloupe\, 97190\, Guadeloupe\, Guadeloupe;X-APPLE-RADIUS=100;X-
 TITLE=La Créole Jazz Club:geo:16.206832,-61.50359980000002
END:VEVENT
BEGIN:VTIMEZONE
TZID:Europe/Paris
X-LIC-LOCATION:Europe/Paris
BEGIN:DAYLIGHT
DTSTART:20170326T030000
TZOFFSETFROM:+0100
TZOFFSETTO:+0200
TZNAME:CEST
END:DAYLIGHT
END:VTIMEZONE
END:VCALENDAR