BEGIN:VCALENDAR
VERSION:2.0
PRODID:-//wp-events-plugin.com//7.2.3.1//EN
TZID:Europe/Paris
X-WR-TIMEZONE:Europe/Paris
BEGIN:VEVENT
UID:2360@bananierbleu.fr
DTSTART;TZID=Europe/Paris:20170908T203000
DTEND;TZID=Europe/Paris:20170908T203000
DTSTAMP:20170903T143106Z
URL:https://bananierbleu.fr/concerts-test/iguane-xtet-friends/
SUMMARY:Iguane Xtet & friends - La Créole Jazz Club - 8 Sep 17 20:30
DESCRIPTION:Pour ce nouveau concert à La Créole Jazz Club\, Iguane Xtet s
 era exceptionnellement en sextet. À l’énergie coutumière dispensée p
 ar Éric Danquin (batterie)\, Fabrice Fanfant (basse) et Joby Julienne (ka
 \, congas) s’adjoindront l’efficacité du doigté de Nicolas Attie (gu
 itare) et l’élégance du toucher de Fabrice Devienne (piano\, claviers)
 . Autour des thèmes d’Alain Joséphine (saxophone)\, la musique d’Igu
 ane Xtet tissera des ponts entre le Ka et le Jazz fusion\, pour un concert
  dont l’intensité\, véritable marque de fabrique du groupe\, est garan
 tie. À ne pas manquer !
ATTACH;FMTTYPE=image/jpeg:https://bananierbleu.fr/wp-content/uploads/2017/
 09/21231142_1544197638976798_1137741043333729615_n.jpg
CATEGORIES:Concerts en Guadeloupe
LOCATION:La Créole Jazz Club\, Pointe de la Verdure\, Le Gosier\, Guadelou
 pe\, 97190\, Guadeloupe\, Guadeloupe
GEO:16.206832;-61.50359980000002
X-APPLE-STRUCTURED-LOCATION;VALUE=URI;X-ADDRESS=Pointe de la Verdure\, Le G
 osier\, Guadeloupe\, 97190\, Guadeloupe\, Guadeloupe;X-APPLE-RADIUS=100;X-
 TITLE=La Créole Jazz Club:geo:16.206832,-61.50359980000002
END:VEVENT
BEGIN:VTIMEZONE
TZID:Europe/Paris
X-LIC-LOCATION:Europe/Paris
BEGIN:DAYLIGHT
DTSTART:20170326T030000
TZOFFSETFROM:+0100
TZOFFSETTO:+0200
TZNAME:CEST
END:DAYLIGHT
END:VTIMEZONE
END:VCALENDAR