BEGIN:VCALENDAR
VERSION:2.0
PRODID:-//wp-events-plugin.com//7.2.3.1//EN
TZID:Europe/Paris
X-WR-TIMEZONE:Europe/Paris
BEGIN:VEVENT
UID:2171@bananierbleu.fr
DTSTART;TZID=Europe/Paris:20170408T190000
DTEND;TZID=Europe/Paris:20170408T190000
DTSTAMP:20170327T130850Z
URL:https://bananierbleu.fr/concerts-test/jacky-bernard-jose-privat/
SUMMARY:Jacky Bernard / José Privat - Espace Godzom - 8 Avr 17 19:00
DESCRIPTION:
ATTACH;FMTTYPE=image/jpeg:https://bananierbleu.fr/wp-content/uploads/2017/
 03/17522656_10210660509862141_5098177628063518207_n.jpg
CATEGORIES:Concerts en Martinique
LOCATION:Espace Godzom\, Saint Pont\, Rivière Pilote\, Martinique\, 97211\
 , Martinique\, Martinique
GEO:14.5620944;-60.937519699999996
X-APPLE-STRUCTURED-LOCATION;VALUE=URI;X-ADDRESS=Saint Pont\, Rivière Pilot
 e\, Martinique\, 97211\, Martinique\, Martinique;X-APPLE-RADIUS=100;X-TITL
 E=Espace Godzom:geo:14.5620944,-60.937519699999996
END:VEVENT
BEGIN:VTIMEZONE
TZID:Europe/Paris
X-LIC-LOCATION:Europe/Paris
BEGIN:DAYLIGHT
DTSTART:20170326T030000
TZOFFSETFROM:+0100
TZOFFSETTO:+0200
TZNAME:CEST
END:DAYLIGHT
END:VTIMEZONE
END:VCALENDAR