BEGIN:VCALENDAR
VERSION:2.0
PRODID:-//wp-events-plugin.com//7.2.3.1//EN
TZID:Europe/Paris
X-WR-TIMEZONE:Europe/Paris
BEGIN:VEVENT
UID:153@bananierbleu.fr
DTSTART;TZID=Europe/Paris:20120522T210000
DTEND;TZID=Europe/Paris:20120522T230000
DTSTAMP:20120324T174406Z
URL:https://bananierbleu.fr/concerts-test/jacques-schwarz-bart-2/
SUMMARY:Jacques Schwarz-Bart - Institut Océanographique - 22 Mai 12 21:00
DESCRIPTION:Dans le cadre du Festival Jazz à Saint-Germain des Près.
CATEGORIES:Concerts en France
LOCATION:Institut Océanographique\, 195\, rue Saint-Jacques\, Paris\, 7500
 5\, Ile de France\, France
GEO:48.844441;2.3422110000000202
X-APPLE-STRUCTURED-LOCATION;VALUE=URI;X-ADDRESS=195\, rue Saint-Jacques\, P
 aris\, 75005\, Ile de France\, France;X-APPLE-RADIUS=100;X-TITLE=Institut 
 Océanographique:geo:48.844441,2.3422110000000202
END:VEVENT
BEGIN:VTIMEZONE
TZID:Europe/Paris
X-LIC-LOCATION:Europe/Paris
BEGIN:DAYLIGHT
DTSTART:20120325T030000
TZOFFSETFROM:+0100
TZOFFSETTO:+0200
TZNAME:CEST
END:DAYLIGHT
END:VTIMEZONE
END:VCALENDAR