BEGIN:VCALENDAR
VERSION:2.0
PRODID:-//wp-events-plugin.com//7.2.3.1//EN
TZID:Europe/Paris
X-WR-TIMEZONE:Europe/Paris
BEGIN:VEVENT
UID:247@bananierbleu.fr
DTSTART;TZID=Europe/Paris:20120810T210000
DTEND;TZID=Europe/Paris:20120810T233000
DTSTAMP:20120620T201140Z
URL:https://bananierbleu.fr/concerts-test/jacques-schwarz-bart-5/
SUMMARY:Jacques Schwarz-Bart - Au Grès du Jazz - 10 Août 12 21:00
DESCRIPTION:The Art of Dreaming\, avec J. Schwarz-Bart (sax)\, Baptiste Tro
 tignon (pno)\, Thomas Bramerie (cb)\, Hans van Oosterhout (dms)\n\nFestiva
 l Au Grès du Jazz
CATEGORIES:Concerts en France
LOCATION:Au Grès du Jazz\, place Jerri Hans\, La Petite Pierre\, 67290\, F
 rance
GEO:48.85758999999999;7.320224000000053
X-APPLE-STRUCTURED-LOCATION;VALUE=URI;X-ADDRESS=place Jerri Hans\, La Petit
 e Pierre\, 67290\, France;X-APPLE-RADIUS=100;X-TITLE=Au Grès du Jazz:geo:
 48.85758999999999,7.320224000000053
END:VEVENT
BEGIN:VTIMEZONE
TZID:Europe/Paris
X-LIC-LOCATION:Europe/Paris
BEGIN:DAYLIGHT
DTSTART:20120325T030000
TZOFFSETFROM:+0100
TZOFFSETTO:+0200
TZNAME:CEST
END:DAYLIGHT
END:VTIMEZONE
END:VCALENDAR