BEGIN:VCALENDAR
VERSION:2.0
PRODID:-//wp-events-plugin.com//7.2.3.1//EN
TZID:Europe/Paris
X-WR-TIMEZONE:Europe/Paris
BEGIN:VEVENT
UID:249@bananierbleu.fr
DTSTART;TZID=Europe/Paris:20120812T180000
DTEND;TZID=Europe/Paris:20120812T200000
DTSTAMP:20120620T201534Z
URL:https://bananierbleu.fr/concerts-test/jacques-schwarz-bart-7/
SUMMARY:Jacques Schwarz-Bart - Jardin Dior - 12 Août 12 18:00
DESCRIPTION:The Art of Dreaming\, avec J. Schwarz-Bart (sax)\, Baptiste Tro
 tignon (pno)\, Thomas Bramerie (cb)\, Hans van Oosterhout (dms)\n\nFestiva
 l Jazz en Baie
CATEGORIES:Concerts en France
LOCATION:Jardin Dior\, Jardin Dior\, Granville\, 50400\, France
GEO:48.8356651;-1.5868311000000404
X-APPLE-STRUCTURED-LOCATION;VALUE=URI;X-ADDRESS=Jardin Dior\, Granville\, 5
 0400\, France;X-APPLE-RADIUS=100;X-TITLE=Jardin Dior:geo:48.8356651,-1.586
 8311000000404
END:VEVENT
BEGIN:VTIMEZONE
TZID:Europe/Paris
X-LIC-LOCATION:Europe/Paris
BEGIN:DAYLIGHT
DTSTART:20120325T030000
TZOFFSETFROM:+0100
TZOFFSETTO:+0200
TZNAME:CEST
END:DAYLIGHT
END:VTIMEZONE
END:VCALENDAR