BEGIN:VCALENDAR
VERSION:2.0
PRODID:-//wp-events-plugin.com//7.2.3.1//EN
TZID:Europe/Paris
X-WR-TIMEZONE:Europe/Paris
BEGIN:VEVENT
UID:250@bananierbleu.fr
DTSTART;TZID=Europe/Paris:20120824T210000
DTEND;TZID=Europe/Paris:20120824T230000
DTSTAMP:20120620T201708Z
URL:https://bananierbleu.fr/concerts-test/jacques-schwarz-bart-8/
SUMMARY:Jacques Schwarz-Bart - Place du 18 juin - 24 Août 12 21:00
DESCRIPTION:The Art of Dreaming\, avec J. Schwarz-Bart (sax)\, Baptiste Tro
 tignon (pno)\, Thomas Bramerie (cb)\, Hans van Oosterhout (dms)\n\nJazz à
  tout Var
CATEGORIES:Concerts en France
LOCATION:Place du 18 juin\, Place du 18 Juin\, Callas\, 83830\, France
GEO:43.5931115;6.539710099999979
X-APPLE-STRUCTURED-LOCATION;VALUE=URI;X-ADDRESS=Place du 18 Juin\, Callas\,
  83830\, France;X-APPLE-RADIUS=100;X-TITLE=Place du 18 juin:geo:43.5931115
 ,6.539710099999979
END:VEVENT
BEGIN:VTIMEZONE
TZID:Europe/Paris
X-LIC-LOCATION:Europe/Paris
BEGIN:DAYLIGHT
DTSTART:20120325T030000
TZOFFSETFROM:+0100
TZOFFSETTO:+0200
TZNAME:CEST
END:DAYLIGHT
END:VTIMEZONE
END:VCALENDAR