BEGIN:VCALENDAR
VERSION:2.0
PRODID:-//wp-events-plugin.com//7.2.3.1//EN
TZID:Europe/Paris
X-WR-TIMEZONE:Europe/Paris
BEGIN:VEVENT
UID:251@bananierbleu.fr
DTSTART;TZID=Europe/Paris:20120825T200000
DTEND;TZID=Europe/Paris:20120825T230000
DTSTAMP:20120620T201927Z
URL:https://bananierbleu.fr/concerts-test/jacques-schwarz-bart-9/
SUMMARY:Jacques Schwarz-Bart - Chateau de Clermont - 25 Août 12 20:00
DESCRIPTION:The Art of Dreaming\, avec J. Schwarz-Bart (sax)\, Baptiste Tro
 tignon (pno)\, Thomas Bramerie (cb)\, Hans van Oosterhout (dms)\n\nJazz au
  Chateau de Clermont en Genevois
CATEGORIES:Concerts en France
LOCATION:Chateau de Clermont\, Chateau de Clermont\, Clermont en Genevois\,
  74270\, France
GEO:45.97510399999999;5.909620899999936
X-APPLE-STRUCTURED-LOCATION;VALUE=URI;X-ADDRESS=Chateau de Clermont\, Clerm
 ont en Genevois\, 74270\, France;X-APPLE-RADIUS=100;X-TITLE=Chateau de Cle
 rmont:geo:45.97510399999999,5.909620899999936
END:VEVENT
BEGIN:VTIMEZONE
TZID:Europe/Paris
X-LIC-LOCATION:Europe/Paris
BEGIN:DAYLIGHT
DTSTART:20120325T030000
TZOFFSETFROM:+0100
TZOFFSETTO:+0200
TZNAME:CEST
END:DAYLIGHT
END:VTIMEZONE
END:VCALENDAR