BEGIN:VCALENDAR
VERSION:2.0
PRODID:-//wp-events-plugin.com//7.2.3.1//EN
TZID:Europe/Paris
X-WR-TIMEZONE:Europe/Paris
BEGIN:VEVENT
UID:556@bananierbleu.fr
DTSTART;TZID=Europe/Paris:20130731T110000
DTEND;TZID=Europe/Paris:20130731T110000
DTSTAMP:20130615T090908Z
URL:https://bananierbleu.fr/concerts-test/jacques-schwarz-bart-cosmo-jazz-
 festival/
SUMMARY:Jacques Schwarz-Bart @ Cosmo Jazz Festival - Brévent - 31 Juil 13 
 11:00
DESCRIPTION:W/ Sonny Troupé\, Moonlight Benjamin...
CATEGORIES:Concerts en France
LOCATION:Brévent\, Brévent\, Chamonix\, 74400\, France
GEO:45.9240651;6.863380099999972
X-APPLE-STRUCTURED-LOCATION;VALUE=URI;X-ADDRESS=Brévent\, Chamonix\, 74400
 \, France;X-APPLE-RADIUS=100;X-TITLE=Brévent:geo:45.9240651,6.86338009999
 9972
END:VEVENT
BEGIN:VTIMEZONE
TZID:Europe/Paris
X-LIC-LOCATION:Europe/Paris
BEGIN:DAYLIGHT
DTSTART:20130331T030000
TZOFFSETFROM:+0100
TZOFFSETTO:+0200
TZNAME:CEST
END:DAYLIGHT
END:VTIMEZONE
END:VCALENDAR