BEGIN:VCALENDAR
VERSION:2.0
PRODID:-//wp-events-plugin.com//7.2.3.1//EN
TZID:Europe/Paris
X-WR-TIMEZONE:Europe/Paris
BEGIN:VEVENT
UID:444@bananierbleu.fr
DTSTART;TZID=Europe/Paris:20130418T203000
DTEND;TZID=Europe/Paris:20130418T203000
DTSTAMP:20130322T090324Z
URL:https://bananierbleu.fr/concerts-test/jacques-schwarz-bart-jazz-racine
 -haiti-3/
SUMMARY:Jacques Schwarz-Bart / Jazz Racine Haïti - le Zèbre de Belleville
  - 18 Avr 13 20:30
DESCRIPTION:
CATEGORIES:Concerts en France
LOCATION:le Zèbre de Belleville\, 63 Boulevard de Belleville\, Paris\, Ile
 DeFrance\, 75011\, Île de France\, France
GEO:48.870141;2.378608
X-APPLE-STRUCTURED-LOCATION;VALUE=URI;X-ADDRESS=63 Boulevard de Belleville\
 , Paris\, IleDeFrance\, 75011\, Île de France\, France;X-APPLE-RADIUS=100
 ;X-TITLE=le Zèbre de Belleville:geo:48.870141,2.378608
END:VEVENT
BEGIN:VTIMEZONE
TZID:Europe/Paris
X-LIC-LOCATION:Europe/Paris
BEGIN:DAYLIGHT
DTSTART:20130331T030000
TZOFFSETFROM:+0100
TZOFFSETTO:+0200
TZNAME:CEST
END:DAYLIGHT
END:VTIMEZONE
END:VCALENDAR