BEGIN:VCALENDAR
VERSION:2.0
PRODID:-//wp-events-plugin.com//7.2.3.1//EN
TZID:Europe/Paris
X-WR-TIMEZONE:Europe/Paris
BEGIN:VEVENT
UID:3840@bananierbleu.fr
DTSTART;TZID=Europe/Paris:20241110T200000
DTEND;TZID=Europe/Paris:20241110T200000
DTSTAMP:20241011T153519Z
URL:https://bananierbleu.fr/concerts-test/jacques-schwarz-bart-the-harlem-
 suite-3/
SUMMARY:Jacques Schwarz-Bart - "The Harlem Suite" - Le Son de la Terre - 10
  Nov 24 20:00
DESCRIPTION:\n\n\n\n\n”« The Harlem Suite s’inscrit dans la continuit
 é parfaite d’une œuvre qui se confond avec la vie : militante\, spirit
 uelle\, désormais installée aux sommets des grands créateurs du Jazz et
  des musiques caribéennes. » Francis Marmande\, Le Monde\n\nJacques Schw
 arz-Bart a été le saxophoniste du RH Factor de Roy Hargrove et a joué a
 ux côtés de D’Angelo et Erykah Badu parmi tant d’autres très grands
 . Originaire de Guadeloupe\, il est un fervent défenseur des racines afro
 -caribéennes du jazz et « The Harlem Suite » qu’il nous offre\, retra
 ce son parcours de sa petite île jusqu’à Big Apple où il s’est inst
 allé dans le mythique barrio de Harlem\, à l’époque cœur noir de la 
 ville\, refuge des diasporas caribéennes et place forte des Afro-américa
 ins. « De nombreux morceaux\, précise-t-il\, reflètent la dure réalit
 é humaine des Noirs en milieu urbain aux États-Unis\, tout en rendant ho
 mmage à l’histoire de Harlem en tant que lieu de naissance de plusieurs
  révolutions musicales ».\n« Tout au long de ce disque\, j’ai aspiré
  à peindre une fresque moderne riche en couleurs\, tout en restant fidèl
 e à la tradition africaine de la musique comme source de guérison et de 
 célébration de la vie ». Guérison\, vie: n’est-ce pas là une très 
 juste définition de ce qu’est le jazz\, de ce que sont « les » jazz\,
  musiques par essence venant d’univers multiples\, mais parlant sans ces
 se du monde qui est le nôtre\, même quand nous pensons y être autres…
 \nCe concert est musicalement unique\, puissant et généreux : voyez donc
  quel casting de rêve énergise ce quartet! Mais il l’est aussi parce q
 u’il retrace en filigrane un parcours humain assez exceptionnel: Jacques
  est\, en effet\, le fruit de deux souffrances ancestrales qui ne sont pas
  éteintes\, mais sont en même temps deux cultures infiniment foisonnante
 s. ‘Dès le biberon\, j’ai reçu une éducation religieuse juive et la
  musique vaudou\, ce sont des références constantes pour moi’. Son pè
 re\, originaire d’une famille juive d’Europe Centrale\, n’est autre 
 qu’André Schwarz-Bart\, l’auteur d’un des plus beaux Prix Goncourt 
 jamais décernés: le roman choc ‘Le Dernier des Justes’ (1959) et sa 
 mère Simone\, célèbre écrivaine guadeloupéenne\, figure de la négrit
 ude\, est l’autrice d’un savoureux ‘Plat de porc aux bananes vertes
 ’ (1967) dédié à Aimé Césaire et continue de tisser une œuvre mêl
 ant mémoire de l’esclavage et célébration des femmes noires oubliées
  par l’Histoire.\nLa vie de leur fils est un détonant résumé de cet a
 ir de famille: il délaisse Sciences Po\, le Conseil Général de Guadelou
 pe et le Sénat pour un saxo découvert précocement (sic) à l’âge de 
 24 ans\, hante le Caveau de la Huchette pour très vite embarquer pour la 
 Berklee College de Boston où il enseigne toujours. Sa vie? Celle qu’il 
 résume d’un humour très cool: « être noir et juif mélangé\, c’es
 t déjà pas facile\, mais en France on me prend en plus pour un Arabe! »
 . Pas grave pour qui s’est aussi profondément nourri de la philosophie 
 héritée de la Harlem Renaissance des années 20-30.\nThe Harlem Suite : 
 un monument d’émotion et d’élégance. – Jazz Magazine\nUn disque m
 ajeur ! – Patrice Blanc-Francard\n\nJacques Schwarz-Bart – saxophone\n
 Gregory Privat – piano\nReggie Washington – contrebasse\nArnaud Dolmen
  – batterie\n\n\n\n\n
ATTACH;FMTTYPE=image/jpeg:https://bananierbleu.fr/wp-content/uploads/2024/
 03/HarlemSuite.jpg
CATEGORIES:Concerts en France
LOCATION:Le Son de la Terre\, Port Montebello\, Paris\, Île de France\, 75
 005\, IleDeFrance\, France
X-APPLE-STRUCTURED-LOCATION;VALUE=URI;X-ADDRESS=Port Montebello\, Paris\, 
 Île de France\, 75005\, IleDeFrance\, France;X-APPLE-RADIUS=100;X-TITLE=L
 e Son de la Terre:geo:0,0
END:VEVENT
BEGIN:VTIMEZONE
TZID:Europe/Paris
X-LIC-LOCATION:Europe/Paris
BEGIN:STANDARD
DTSTART:20241027T020000
TZOFFSETFROM:+0200
TZOFFSETTO:+0100
TZNAME:CET
END:STANDARD
END:VTIMEZONE
END:VCALENDAR