BEGIN:VCALENDAR
VERSION:2.0
PRODID:-//wp-events-plugin.com//7.2.3.1//EN
TZID:Europe/Paris
X-WR-TIMEZONE:Europe/Paris
BEGIN:VEVENT
UID:2151@bananierbleu.fr
DTSTART;TZID=Europe/Paris:20170318T210000
DTEND;TZID=Europe/Paris:20170318T210000
DTSTAMP:20170313T161641Z
URL:https://bananierbleu.fr/concerts-test/jam-family-band-funk-the-house/
SUMMARY:Jam Family Band - Funk The House - New Ti'Paris - 18 Mar 17 21:00
DESCRIPTION:Jam Family Band - Funk The House\n\n 	Loic Souriant Bass\n 	Jer
 ome Bes Claviers Trumpet Lead Vocal\n 	Rudy Guillaume Drums\n 	Jean Marc A
 javon Guitare And Lead Vocal\n
CATEGORIES:Concerts en Guadeloupe
LOCATION:New Ti'Paris\, Perinet\, Le Gosier\, Guadeloupe\, 97190\, Guadelou
 pe\, Guadeloupe
GEO:16.2077962;-61.48492470000002
X-APPLE-STRUCTURED-LOCATION;VALUE=URI;X-ADDRESS=Perinet\, Le Gosier\, Guade
 loupe\, 97190\, Guadeloupe\, Guadeloupe;X-APPLE-RADIUS=100;X-TITLE=New Ti'
 Paris:geo:16.2077962,-61.48492470000002
END:VEVENT
BEGIN:VTIMEZONE
TZID:Europe/Paris
X-LIC-LOCATION:Europe/Paris
BEGIN:STANDARD
DTSTART:20161030T020000
TZOFFSETFROM:+0200
TZOFFSETTO:+0100
TZNAME:CET
END:STANDARD
END:VTIMEZONE
END:VCALENDAR