BEGIN:VCALENDAR
VERSION:2.0
PRODID:-//wp-events-plugin.com//7.2.3.1//EN
TZID:Europe/Paris
X-WR-TIMEZONE:Europe/Paris
BEGIN:VEVENT
UID:2639@bananierbleu.fr
DTSTART;TZID=America/Guadeloupe:20180712T210000
DTEND;TZID=America/Guadeloupe:20180712T210000
DTSTAMP:20180709T213404Z
URL:https://bananierbleu.fr/concerts-test/jam-jazz/
SUMMARY:Jam Jazz - Ja'Ri Beach - 12 Juil 18 21:00
DESCRIPTION:
ATTACH;FMTTYPE=image/jpeg:https://bananierbleu.fr/wp-content/uploads/2018/
 07/36851111_1725495877565363_5455217831584989184_o.jpg
CATEGORIES:Concerts en Guadeloupe
LOCATION:Ja'Ri Beach\, Imm. Vital\, Bât. A\, bd Houelbourg\, ZI Jarry\, Ba
 ie-Mahault\, Guadeloupe\, 97122\, Guadeloupe\, Guadeloupe
GEO:16.242293;-61.559159
X-APPLE-STRUCTURED-LOCATION;VALUE=URI;X-ADDRESS=Imm. Vital\, Bât. A\, bd H
 ouelbourg\, ZI Jarry\, Baie-Mahault\, Guadeloupe\, 97122\, Guadeloupe\, Gu
 adeloupe;X-APPLE-RADIUS=100;X-TITLE=Ja'Ri Beach:geo:16.242293,-61.559159
END:VEVENT
BEGIN:VTIMEZONE
TZID:America/Guadeloupe
X-LIC-LOCATION:America/Guadeloupe
BEGIN:STANDARD
DTSTART:20170712T210000
TZOFFSETFROM:-0400
TZOFFSETTO:-0400
TZNAME:AST
END:STANDARD
END:VTIMEZONE
END:VCALENDAR