BEGIN:VCALENDAR
VERSION:2.0
PRODID:-//wp-events-plugin.com//7.2.3.1//EN
TZID:Europe/Paris
X-WR-TIMEZONE:Europe/Paris
BEGIN:VEVENT
UID:555@bananierbleu.fr
DTSTART;TZID=Europe/Paris:20130614T210000
DTEND;TZID=Europe/Paris:20130614T210000
DTSTAMP:20130612T071745Z
URL:https://bananierbleu.fr/concerts-test/jam-session-40/
SUMMARY:Jam Session - New Ti'Paris - 14 Juin 13 21:00
DESCRIPTION:Avec Maracud'Jazz\n\nBelote et rebelote !!!\nPour rattraper la 
 frustation de 3 semaines sans JAM SESSION\, on remet ça ce vendredi !\nVe
 nez nombreux partager la scène avec nous pour un moment d'échange tout e
 n musique.\nSoirée animée par MARACUD'Jazz &amp\; Friends.\nRéservation
 s conseillées : 0 690 71 88 37
CATEGORIES:Concerts en Guadeloupe
LOCATION:New Ti'Paris\, Perinet\, Le Gosier\, Guadeloupe\, 97190\, Guadelou
 pe\, Guadeloupe
GEO:16.2077962;-61.48492470000002
X-APPLE-STRUCTURED-LOCATION;VALUE=URI;X-ADDRESS=Perinet\, Le Gosier\, Guade
 loupe\, 97190\, Guadeloupe\, Guadeloupe;X-APPLE-RADIUS=100;X-TITLE=New Ti'
 Paris:geo:16.2077962,-61.48492470000002
END:VEVENT
BEGIN:VTIMEZONE
TZID:Europe/Paris
X-LIC-LOCATION:Europe/Paris
BEGIN:DAYLIGHT
DTSTART:20130331T030000
TZOFFSETFROM:+0100
TZOFFSETTO:+0200
TZNAME:CEST
END:DAYLIGHT
END:VTIMEZONE
END:VCALENDAR