BEGIN:VCALENDAR
VERSION:2.0
PRODID:-//wp-events-plugin.com//7.2.3.1//EN
TZID:Europe/Paris
X-WR-TIMEZONE:Europe/Paris
BEGIN:VEVENT
UID:578@bananierbleu.fr
DTSTART;TZID=Europe/Paris:20130712T210000
DTEND;TZID=Europe/Paris:20130712T210000
DTSTAMP:20130710T062135Z
URL:https://bananierbleu.fr/concerts-test/jam-session-42/
SUMMARY:Jam Session - New Ti'Paris - 12 Juil 13 21:00
DESCRIPTION:Olivier Cafafa vous invite à la traditionnelle Jam Session du 
 P'ti Paris.\n\nC'est les vacances. Le bon moment pour venir écouter un pe
 u de musique en live.\nCe vendredi\, c'est la JAM SESSION au New Ti Paris 
 !\nInstrument ou sourire obligatoire !\nRéservations conseillées : 0 690
  71 88 37
CATEGORIES:Concerts en Guadeloupe
LOCATION:New Ti'Paris\, Perinet\, Le Gosier\, Guadeloupe\, 97190\, Guadelou
 pe\, Guadeloupe
GEO:16.2077962;-61.48492470000002
X-APPLE-STRUCTURED-LOCATION;VALUE=URI;X-ADDRESS=Perinet\, Le Gosier\, Guade
 loupe\, 97190\, Guadeloupe\, Guadeloupe;X-APPLE-RADIUS=100;X-TITLE=New Ti'
 Paris:geo:16.2077962,-61.48492470000002
END:VEVENT
BEGIN:VTIMEZONE
TZID:Europe/Paris
X-LIC-LOCATION:Europe/Paris
BEGIN:DAYLIGHT
DTSTART:20130331T030000
TZOFFSETFROM:+0100
TZOFFSETTO:+0200
TZNAME:CEST
END:DAYLIGHT
END:VTIMEZONE
END:VCALENDAR