BEGIN:VCALENDAR
VERSION:2.0
PRODID:-//wp-events-plugin.com//7.2.3.1//EN
TZID:Europe/Paris
X-WR-TIMEZONE:Europe/Paris
BEGIN:VEVENT
UID:599@bananierbleu.fr
DTSTART;TZID=Europe/Paris:20130906T213000
DTEND;TZID=Europe/Paris:20130906T213000
DTSTAMP:20130906T083857Z
URL:https://bananierbleu.fr/concerts-test/jam-session-43/
SUMMARY:Jam Session - New Ti'Paris - 6 Sep 13 21:30
DESCRIPTION:C'est la rentrée !!! Pas que des mauvaises nouvelles : c'est a
 ussi le retour des JAM SESSIONS au NTP.\nVenez donc évacuer toute la tens
 ion de cette semaine un peu stressante en partageant ce moment de musique 
 avec nous.\nSoirée animée par MARACUD'Jazz\nRéservations : 0690 71 88 3
 7
CATEGORIES:Concerts en Guadeloupe
LOCATION:New Ti'Paris\, Perinet\, Le Gosier\, Guadeloupe\, 97190\, Guadelou
 pe\, Guadeloupe
GEO:16.2077962;-61.48492470000002
X-APPLE-STRUCTURED-LOCATION;VALUE=URI;X-ADDRESS=Perinet\, Le Gosier\, Guade
 loupe\, 97190\, Guadeloupe\, Guadeloupe;X-APPLE-RADIUS=100;X-TITLE=New Ti'
 Paris:geo:16.2077962,-61.48492470000002
END:VEVENT
BEGIN:VTIMEZONE
TZID:Europe/Paris
X-LIC-LOCATION:Europe/Paris
BEGIN:DAYLIGHT
DTSTART:20130331T030000
TZOFFSETFROM:+0100
TZOFFSETTO:+0200
TZNAME:CEST
END:DAYLIGHT
END:VTIMEZONE
END:VCALENDAR