BEGIN:VCALENDAR
VERSION:2.0
PRODID:-//wp-events-plugin.com//7.2.3.1//EN
TZID:Europe/Paris
X-WR-TIMEZONE:Europe/Paris
BEGIN:VEVENT
UID:3859@bananierbleu.fr
DTSTART;TZID=Europe/Paris:20241229T203000
DTEND;TZID=Europe/Paris:20241229T203000
DTSTAMP:20241127T084359Z
URL:https://bananierbleu.fr/concerts-test/jam-session-avec-etienne-mbappe-
 lafrique-et-le-jazz/
SUMMARY:Jam Session avec Etienne Mbappé - L'Afrique et le Jazz - le Baiser
  Salé - 29 Déc 24 20:30
DESCRIPTION:\n\n 	NICHOLA VELLA piano/claviers\n 	ANTONIN FRESSON guitare\n
  	ETIENNE MBAPPÉ basse/voix/lead\n 	TAO EHRLICH batterie\n\nL’une des r
 ares constantes que l’on retrouve dans le jazz tout au long de son histo
 ire\, c’est son lien indéfectible avec l’improvisation. Et c’est ce
 rtainement dans le cadre des jams sessions que ce lien se fait le plus for
 t. En cette dernière jam de 2024\, rendez-vous avec Etienne Mbappé.\n\nE
 tienne Mbappé a une histoire d’amour avec ce Club\, commencée lorsqu
 ’il jouait tous les soirs au Caf’Conc rue Saint-Denis\, puis s’insta
 llait en haut de l’escalier dès qu’il avait quelques minutes pour éc
 outer ce qui se passait sur notre petite scène. Presque 40 ans après est
  venu le moment de « transmettre » Etienne s’entoure de la jeune gén
 ération pour ses nouveaux projets.\nRido Bayonne\, Casino\, Ultramarine\,
  Chic’hot\, Su La Take\, the Prophetes\, Nec+ et désormais COUNTRY SIDE
  - African Blues Country Folk Pop Music son tout nouveau groupe\, ont vu l
 e jour dans ce Club dans lequel ils ont transpiré des semaines entières 
 avant d’arriver à son apogée. C’est au cœur des terres sawa du Came
 roun\, dans le village de Bonendale\, que naît en 1964 l’un des musicie
 ns les plus talentueux et polyvalents de sa génération. Un musicien d’
 exception\, Étienne Mbappé joue avec des gants\, conférant à son jeu u
 ne texture et une expressivité uniques\, faisant de lui une rareté dans 
 le monde des instruments à corde.\n\n
ATTACH;FMTTYPE=image/jpeg:https://bananierbleu.fr/wp-content/uploads/2024/
 11/EtienneMbappe.jpg
CATEGORIES:Concerts en France
LOCATION:le Baiser Salé\, 58\, rue des Lombards\, Paris\, Île de France\,
  75001\, IleDeFrance\, France
GEO:48.8598;2.34791
X-APPLE-STRUCTURED-LOCATION;VALUE=URI;X-ADDRESS=58\, rue des Lombards\, Par
 is\, Île de France\, 75001\, IleDeFrance\, France;X-APPLE-RADIUS=100;X-TI
 TLE=le Baiser Salé:geo:48.8598,2.34791
END:VEVENT
BEGIN:VTIMEZONE
TZID:Europe/Paris
X-LIC-LOCATION:Europe/Paris
BEGIN:STANDARD
DTSTART:20241027T020000
TZOFFSETFROM:+0200
TZOFFSETTO:+0100
TZNAME:CET
END:STANDARD
END:VTIMEZONE
END:VCALENDAR