BEGIN:VCALENDAR
VERSION:2.0
PRODID:-//wp-events-plugin.com//7.2.3.1//EN
TZID:Europe/Paris
X-WR-TIMEZONE:Europe/Paris
BEGIN:VEVENT
UID:4063@bananierbleu.fr
DTSTART;TZID=Europe/Paris:20260112T203000
DTEND;TZID=Europe/Paris:20260112T203000
DTSTAMP:20251214T093906Z
URL:https://bananierbleu.fr/concerts-test/james-germain-2/
SUMMARY:James Germain - New Morning - 12 Jan 26 20:30
DESCRIPTION:\n 	Personnel : James Germain\, Stevy Mahy\, Jowee Omicil\, Guy
  Régis Junior\n 	Présentation : James Germain\, figure majeure de la mus
 ique haïtienne contemporaine\, présente son nouvel album "Xù d'Àssa". 
 Ce concert commémore le tremblement de terre de 2010 en Haïti et vise à
  rassembler la communauté pour un moment de recueillement et de célébra
 tion de la résilience haïtienne.\n
ATTACH;FMTTYPE=image/jpeg:https://bananierbleu.fr/wp-content/uploads/2025/
 12/7144.jpg
CATEGORIES:Concerts en France
LOCATION:New Morning\, 7-9 rue des Petites Ecuries\, Paris\, Île de France
 \, 75010\, IleDeFrance\, France
GEO:48.8732;2.35323
X-APPLE-STRUCTURED-LOCATION;VALUE=URI;X-ADDRESS=7-9 rue des Petites Ecuries
 \, Paris\, Île de France\, 75010\, IleDeFrance\, France;X-APPLE-RADIUS=10
 0;X-TITLE=New Morning:geo:48.8732,2.35323
END:VEVENT
BEGIN:VTIMEZONE
TZID:Europe/Paris
X-LIC-LOCATION:Europe/Paris
BEGIN:STANDARD
DTSTART:20251026T020000
TZOFFSETFROM:+0200
TZOFFSETTO:+0100
TZNAME:CET
END:STANDARD
END:VTIMEZONE
END:VCALENDAR