BEGIN:VCALENDAR
VERSION:2.0
PRODID:-//wp-events-plugin.com//7.2.3.1//EN
TZID:Europe/Paris
X-WR-TIMEZONE:Europe/Paris
BEGIN:VEVENT
UID:1775@bananierbleu.fr
DTSTART;TZID=Europe/Paris:20160721T223000
DTEND;TZID=Europe/Paris:20160721T223000
DTSTAMP:20160418T132235Z
URL:https://bananierbleu.fr/concerts-test/jazz-a-junas-anthony-joseph-kuku
 ma-quintet/
SUMMARY:[Jazz à Junas] Anthony Joseph & Kukuma Quintet - Carrières de Jun
 as - 21 Juil 16 22:30
DESCRIPTION:Anthony Joseph : voix\, Shabaka Hutchings : saxophones alto et
  baryton\, Jason Yarde : saxophones alto\, soprano et baryton\, Yvan Guil
 lard : trompette\, Mike Clinton : basse\, Pierre Chabrelle : trombone\,
  Andy Narel : tambour\n\nAvec son "Spasm Band" comme dans ses poèmes\, A
 nthony Joseph a creusé son sillon\, éprouvant le monde par la combinaiso
 n des mots et des musiques de cette « Atlantique noire » qui l’inspi
 re tant. Par touches légères ou en apport frontal\, suggérée ou claire
 ment affichée\, la Caraïbe apparaît en filigrane dans toute la discogra
 phie d’Anthony Joseph. Aujourd’hui\, il achève une biographie du gén
 ial Lord Kitchener\, icône de l’âge d’or du calypso trinidadien\, et
  explore dans un nouveau disque ses racines et leurs ramifications autant 
 musicales\, poétiques que politiques. Du coup\, il teinte son psyché-fun
 k-soul d‘influences calypso\, kaiso\, rapso (le mélange rap-calypso)\, 
 roots-reggae.\n\nLes saxophones de Shabaka Hutchings (The Heliocentrics) e
 t Jason Yarde\, la trompette d’Yvon Guillard (Magma)\, la basse de Mike 
 Clinton (Salif Keita)\, le trombone de Pierre Chabrèle (Creole Jazz Orche
 stra) : ce nouveau groupe prend des allures de all-stars Caribéen marqué
  par les coups de mailloches d’Andy Narell\, grand maître du steelpan\,
  tambour d’acier aux sonorités métalliques\, incarnation sonore de Tri
 nidad.
ATTACH;FMTTYPE=image/jpeg:https://bananierbleu.fr/wp-content/uploads/2016/
 04/ajoseph.jpg
CATEGORIES:Concerts en France
LOCATION:Carrières de Junas\, 3 Chemin du Bon Temps\, Junas\, Occitanie\, 
 30250\, Occitanie\, France
GEO:43.7737995;4.120800300000042
X-APPLE-STRUCTURED-LOCATION;VALUE=URI;X-ADDRESS=3 Chemin du Bon Temps\, Jun
 as\, Occitanie\, 30250\, Occitanie\, France;X-APPLE-RADIUS=100;X-TITLE=Car
 rières de Junas:geo:43.7737995,4.120800300000042
END:VEVENT
BEGIN:VTIMEZONE
TZID:Europe/Paris
X-LIC-LOCATION:Europe/Paris
BEGIN:DAYLIGHT
DTSTART:20160327T030000
TZOFFSETFROM:+0100
TZOFFSETTO:+0200
TZNAME:CEST
END:DAYLIGHT
END:VTIMEZONE
END:VCALENDAR