BEGIN:VCALENDAR
VERSION:2.0
PRODID:-//wp-events-plugin.com//7.2.3.1//EN
TZID:Europe/Paris
X-WR-TIMEZONE:Europe/Paris
BEGIN:VEVENT
UID:1773@bananierbleu.fr
DTSTART;TZID=Europe/Paris:20160720T210000
DTEND;TZID=Europe/Paris:20160720T210000
DTSTAMP:20160418T133240Z
URL:https://bananierbleu.fr/concerts-test/jazz-a-junas-franck-nicolas-mich
 ael-jackson-in-ka/
SUMMARY:[Jazz à Junas] Franck Nicolas - Michael Jackson in ka - Carrières
  de Junas - 20 Juil 16 21:00
DESCRIPTION:Franck Nicolas : trompette\, coquillages\, Manu Codjia : guita
 re\, Grégory Privat : piano\, claviers\, moog\, Sonny Troupé : batteri
 e\, ka\, Catherine Dénécy : danse\n\nFranck Nicolas\, trompettiste et c
 ompositeur à l’appétit insatiable est le créateur du Jazz Ka (alchimi
 e parfaite alliant le jazz et le tambour traditionnel guadeloupéen).\n\nT
 oujours en quête d’idées nouvelles\, il est tel un savant fou qui expl
 ore des sentiers inconnus. Pour Franck Nicolas la musique est un immense l
 aboratoire d’expériences originales\, où tout est à faire et tout est
  à inventer… Là\, il décide de retranscrire la musique de Michael Jac
 kson en Jazz-ka ce qui augure de belles surprises pour les auditeurs et am
 ateurs de sensations fortes…Pour honorer la mémoire du génie du chant 
 et de la danse\, Franck a fait appel à une jeune danseuse guadeloupéenne
  exceptionnelle qui mêle tradition et modernité à la perfection.
ATTACH;FMTTYPE=image/jpeg:https://bananierbleu.fr/wp-content/uploads/2016/
 04/Mickael-in-Ka-1.jpg
CATEGORIES:Concerts en France
LOCATION:Carrières de Junas\, 3 Chemin du Bon Temps\, Junas\, Occitanie\, 
 30250\, Occitanie\, France
GEO:43.7737995;4.120800300000042
X-APPLE-STRUCTURED-LOCATION;VALUE=URI;X-ADDRESS=3 Chemin du Bon Temps\, Jun
 as\, Occitanie\, 30250\, Occitanie\, France;X-APPLE-RADIUS=100;X-TITLE=Car
 rières de Junas:geo:43.7737995,4.120800300000042
END:VEVENT
BEGIN:VTIMEZONE
TZID:Europe/Paris
X-LIC-LOCATION:Europe/Paris
BEGIN:DAYLIGHT
DTSTART:20160327T030000
TZOFFSETFROM:+0100
TZOFFSETTO:+0200
TZNAME:CEST
END:DAYLIGHT
END:VTIMEZONE
END:VCALENDAR