BEGIN:VCALENDAR
VERSION:2.0
PRODID:-//wp-events-plugin.com//7.2.3.1//EN
TZID:Europe/Paris
X-WR-TIMEZONE:Europe/Paris
BEGIN:VEVENT
UID:1774@bananierbleu.fr
DTSTART;TZID=Europe/Paris:20160721T210000
DTEND;TZID=Europe/Paris:20160721T210000
DTSTAMP:20160418T133152Z
URL:https://bananierbleu.fr/concerts-test/jazz-a-junas-jacques-schwarz-bar
 t-jazz-racine-haiti/
SUMMARY:[Jazz à Junas] Jacques Schwarz-Bart - Jazz Racine Haïti - Carriè
 res de Junas - 21 Juil 16 21:00
DESCRIPTION:Jacques Schwarz-Bart : saxophone\, Moonlight Benjamin : chant\,
  Gregory Privat  : piano\, Stéphane Kérecki : contrebasse\, Arnaud D
 olmen : batterie\n\nJacques Schwarz-Bart ne s'introduit pas par effraction
  dans la musique racine d'Haïti\, il en a été biberonné ! Sa prime-enf
 ance fut bercée par les airs de Ti Roro et Martha Jean-Claude souvent fre
 donnés par sa maman Simone. Loin de renier son gwo ka\, le jeune guadelou
 péen des hauteurs\, s'imprégnait insidieusement des rhizomes de la voisi
 ne Haïti.\n\nAvec ce dernier projet\, Jacques Schwarz-Bart insuffle un no
 uvel espace de possibles pour la musique…\nAccroché aux rives d’Haït
 i\, il nous invite à un voyage aux sources. Les mélodies des rituels vau
 dous tutoient à la fois silence et puissance avec une même force. Dans c
 ette création\, la musique Racine habite son écriture jazz.
ATTACH;FMTTYPE=image/jpeg:https://bananierbleu.fr/wp-content/uploads/2016/
 04/JazzRacine_live.jpg
CATEGORIES:Concerts en France
LOCATION:Carrières de Junas\, 3 Chemin du Bon Temps\, Junas\, Occitanie\, 
 30250\, Occitanie\, France
GEO:43.7737995;4.120800300000042
X-APPLE-STRUCTURED-LOCATION;VALUE=URI;X-ADDRESS=3 Chemin du Bon Temps\, Jun
 as\, Occitanie\, 30250\, Occitanie\, France;X-APPLE-RADIUS=100;X-TITLE=Car
 rières de Junas:geo:43.7737995,4.120800300000042
END:VEVENT
BEGIN:VTIMEZONE
TZID:Europe/Paris
X-LIC-LOCATION:Europe/Paris
BEGIN:DAYLIGHT
DTSTART:20160327T030000
TZOFFSETFROM:+0100
TZOFFSETTO:+0200
TZNAME:CEST
END:DAYLIGHT
END:VTIMEZONE
END:VCALENDAR