BEGIN:VCALENDAR
VERSION:2.0
PRODID:-//wp-events-plugin.com//7.2.3.1//EN
TZID:Europe/Paris
X-WR-TIMEZONE:Europe/Paris
BEGIN:VEVENT
UID:1777@bananierbleu.fr
DTSTART;TZID=Europe/Paris:20160722T223000
DTEND;TZID=Europe/Paris:20160722T223000
DTSTAMP:20160418T132743Z
URL:https://bananierbleu.fr/concerts-test/jazz-a-junas-jacques-schwarz-bar
 t-omar-sosa-creole-spirit/
SUMMARY:[Jazz à Junas] Jacques Schwarz-Bart & Omar Sosa - Creole Spirit - 
 Carrières de Junas - 22 Juil 16 22:30
DESCRIPTION:Omar Sosa : piano et Fender Rhodes\, Jacques Schwarz-Bart : sa
 xophone\, Martha Galarraga : chant\, Moonlight Benjamin : chant\, Gustav
 o Ovalles : percussions\, Claude Saturne : percussions\n\nOmar Sosa et
  Jacques Schwarz?Bart ont depuis plus de dix ans\, chacun de leur côté
 \, porté haut et fort les couleurs du jazz afro?caribéen à travers le m
 onde. Le pianiste Omar Sosa est aujourd'hui le leader incontesté d'un ja
 zz cubain inspiré par les traditions spirituelles de la Santeria\, ce rit
 uel africain hérité du temps de l'esclavage qui a permis au peuple dépo
 rté de résister à l'oppression. Le saxophoniste Jacques Schwarz?Bart d
 e son côté\, après avoir emmené les tambours gwoka?jazz sur les scène
 s du monde\, est devenu l'ambassadeur du jazz vaudou suite à son  dernie
 r  opus  « Jazz Racine Haïti ». Ces deux musiciens\, défenseurs ach
 arnés d'une créolité universelle\, ont maintes fois envisagé de créer
  ensemble une rencontre symbiotique des musiques spirituelles de Cuba et H
 aïti dans l'écrin du jazz moderne.
ATTACH;FMTTYPE=image/jpeg:https://bananierbleu.fr/wp-content/uploads/2016/
 04/Jacques_Omar_concert.jpg
CATEGORIES:Concerts en France
LOCATION:Carrières de Junas\, 3 Chemin du Bon Temps\, Junas\, Occitanie\, 
 30250\, Occitanie\, France
GEO:43.7737995;4.120800300000042
X-APPLE-STRUCTURED-LOCATION;VALUE=URI;X-ADDRESS=3 Chemin du Bon Temps\, Jun
 as\, Occitanie\, 30250\, Occitanie\, France;X-APPLE-RADIUS=100;X-TITLE=Car
 rières de Junas:geo:43.7737995,4.120800300000042
END:VEVENT
BEGIN:VTIMEZONE
TZID:Europe/Paris
X-LIC-LOCATION:Europe/Paris
BEGIN:DAYLIGHT
DTSTART:20160327T030000
TZOFFSETFROM:+0100
TZOFFSETTO:+0200
TZNAME:CEST
END:DAYLIGHT
END:VTIMEZONE
END:VCALENDAR