BEGIN:VCALENDAR
VERSION:2.0
PRODID:-//wp-events-plugin.com//7.2.3.1//EN
TZID:Europe/Paris
X-WR-TIMEZONE:Europe/Paris
BEGIN:VEVENT
UID:1776@bananierbleu.fr
DTSTART;TZID=Europe/Paris:20160722T210000
DTEND;TZID=Europe/Paris:20160722T210000
DTSTAMP:20161021T083919Z
URL:https://bananierbleu.fr/concerts-test/jazz-a-junas-mario-canonge-miche
 l-zenino-quintet/
SUMMARY:[Jazz à Junas] Mario Canonge & Michel Zenino quintet - Carrières 
 de Junas - 22 Juil 16 21:00
DESCRIPTION:En partenariat avec le Festival Radio France Montpellier\n\nMar
 io Canonge : piano\, Michel Zénino : contrebasse\, Ricardo Izquierdo :  
 sax\, Josiah Woodson : trompette\, flûte\, Arnaud Dolmen : batterie\n\nM
 ario Canonge et Michel Zenino forment un duo télépathique\, époustoufla
 nt d’énergie et de sensibilité. En résidence depuis 2008 au Baiser Sa
 lé\, ils sont reconnus aujourd'hui comme une institution de la rue des Lo
 mbards à Paris. Mario est une légende vivante de la musique caribéenne 
 et un jazzman aujourd’hui incontournable. En Michel\, contrebassiste vir
 tuose\, il trouve le parfait complice pour explorer l’immensité du rép
 ertoire jazzistique en toute liberté. Ces deux fortes personnalités musi
 cales\, s'entourent\, pour ce nouveau projet\, de la fine fleur de la jeun
 e génération\, Arnaud Dolmen\, le cubain Ricardo Izquierdo et le multi-i
 nstrumentiste américain Josiah Woodson\, autour de leurs compositions. Le
  répertoire de Michel et Mario offre une musique pleine d'énergie et de 
 couleurs\, un savant dosage de jazz contemporain\, de hard bop mêlé de r
 ythmes latins et caraïbes.
ATTACH;FMTTYPE=image/jpeg:https://bananierbleu.fr/wp-content/uploads/2016/
 06/canonge_zenino_quintet.jpg
CATEGORIES:Concerts en France
LOCATION:Carrières de Junas\, 3 Chemin du Bon Temps\, Junas\, Occitanie\, 
 30250\, Occitanie\, France
GEO:43.7737995;4.120800300000042
X-APPLE-STRUCTURED-LOCATION;VALUE=URI;X-ADDRESS=3 Chemin du Bon Temps\, Jun
 as\, Occitanie\, 30250\, Occitanie\, France;X-APPLE-RADIUS=100;X-TITLE=Car
 rières de Junas:geo:43.7737995,4.120800300000042
END:VEVENT
BEGIN:VTIMEZONE
TZID:Europe/Paris
X-LIC-LOCATION:Europe/Paris
BEGIN:DAYLIGHT
DTSTART:20160327T030000
TZOFFSETFROM:+0100
TZOFFSETTO:+0200
TZNAME:CEST
END:DAYLIGHT
END:VTIMEZONE
END:VCALENDAR