BEGIN:VCALENDAR
VERSION:2.0
PRODID:-//wp-events-plugin.com//7.2.3.1//EN
TZID:Europe/Paris
X-WR-TIMEZONE:Europe/Paris
BEGIN:VEVENT
UID:1778@bananierbleu.fr
DTSTART;TZID=Europe/Paris:20160723T223000
DTEND;TZID=Europe/Paris:20160723T223000
DTSTAMP:20160418T132955Z
URL:https://bananierbleu.fr/concerts-test/jazz-a-junas-richard-bona-and-th
 e-mandekan-cubano/
SUMMARY:[Jazz à Junas] Richard Bona and the Mandekan Cubano - Carrières d
 e Junas - 23 Juil 16 22:30
DESCRIPTION:Richard Bona : contrebasse\, voix Dennis Hernandez : trompett
 e\, Luis Bonilla : trombone\, Osmany Parades : piano\, Luisito Quintero 
 : timbales et percussions\, Robert Quintero : congas et percussions\n\nRi
 chard Bona et le Mandekan Cubano reviennent avec un album imprégné de mu
 sique Cubaine\, du charme du langage Mandekan et de traditions Africaines.
  L'album incarne la préservation de l'histoire que les immigrants Cubains
 \, Espagnols et Africains partagent au travers de la musique et de la dans
 e. Inspirés par l'héritage partagé de la musique traditionnelle et folk
 lorique de Cuba et de l'Afrique de l'Ouest\, Richard Bona et le Mandekan C
 ubano exaltent ce mélange des cultures grâce à leur talent de communiqu
 er la langue universelle : la musique.\n\nUn final de rêve pour cette éd
 ition sur la thématique des Caraïbes !!
ATTACH;FMTTYPE=image/jpeg:https://bananierbleu.fr/wp-content/uploads/2016/
 04/Bona-site_0.jpg
CATEGORIES:Concerts en France
LOCATION:Carrières de Junas\, 3 Chemin du Bon Temps\, Junas\, Occitanie\, 
 30250\, Occitanie\, France
GEO:43.7737995;4.120800300000042
X-APPLE-STRUCTURED-LOCATION;VALUE=URI;X-ADDRESS=3 Chemin du Bon Temps\, Jun
 as\, Occitanie\, 30250\, Occitanie\, France;X-APPLE-RADIUS=100;X-TITLE=Car
 rières de Junas:geo:43.7737995,4.120800300000042
END:VEVENT
BEGIN:VTIMEZONE
TZID:Europe/Paris
X-LIC-LOCATION:Europe/Paris
BEGIN:DAYLIGHT
DTSTART:20160327T030000
TZOFFSETFROM:+0100
TZOFFSETTO:+0200
TZNAME:CEST
END:DAYLIGHT
END:VTIMEZONE
END:VCALENDAR