BEGIN:VCALENDAR
VERSION:2.0
PRODID:-//wp-events-plugin.com//7.2.3.1//EN
TZID:Europe/Paris
X-WR-TIMEZONE:Europe/Paris
BEGIN:VEVENT
UID:537@bananierbleu.fr
DTSTART;TZID=Europe/Paris:20130606T213000
DTEND;TZID=Europe/Paris:20130606T213000
DTSTAMP:20130518T081821Z
URL:https://bananierbleu.fr/concerts-test/jazz-aux-accates-annick-tangora-
 french-sumo/
SUMMARY:[Jazz aux Accates] Annick Tangora & French Sumo - Espace Culturel M
 usical des Accates - 6 Juin 13 21:30
DESCRIPTION:
CATEGORIES:Concerts en France
LOCATION:Espace Culturel Musical des Accates\, 47 route des Camoins - Valen
 tine\, Marseille\, 13011\, France
GEO:43.2967583;5.49216320000005
X-APPLE-STRUCTURED-LOCATION;VALUE=URI;X-ADDRESS=47 route des Camoins - Vale
 ntine\, Marseille\, 13011\, France;X-APPLE-RADIUS=100;X-TITLE=Espace Cultu
 rel Musical des Accates:geo:43.2967583,5.49216320000005
END:VEVENT
BEGIN:VTIMEZONE
TZID:Europe/Paris
X-LIC-LOCATION:Europe/Paris
BEGIN:DAYLIGHT
DTSTART:20130331T030000
TZOFFSETFROM:+0100
TZOFFSETTO:+0200
TZNAME:CEST
END:DAYLIGHT
END:VTIMEZONE
END:VCALENDAR