BEGIN:VCALENDAR
VERSION:2.0
PRODID:-//wp-events-plugin.com//7.2.3.1//EN
TZID:Europe/Paris
X-WR-TIMEZONE:Europe/Paris
BEGIN:VEVENT
UID:2543@bananierbleu.fr
DTSTART;TZID=Europe/Paris:20180316T203000
DTEND;TZID=Europe/Paris:20180316T203000
DTSTAMP:20180308T112955Z
URL:https://bananierbleu.fr/concerts-test/jazz-ladies/
SUMMARY:Jazz Ladies - La Créole Jazz Club - 16 Mar 18 20:30
DESCRIPTION:La Créole Jazz Club rend hommage au jazz vocal\, tel qu’il f
 ût chanté par des femmes. De Diana Krall à Ella Fitzgerald\, de Billie 
 Holiday à Sarah Vaughan\, de Norah Jones à Roberta Flack. Avec Karine Pe
 ntier en maîtresse de cérémonie.\n\nKarine Pentier (chant)\nSylvain Ran
 sy (piano)\nRaymond Grégo (batterie)\nDominique Mirval (basse)
ATTACH;FMTTYPE=image/jpeg:https://bananierbleu.fr/wp-content/uploads/2018/
 03/28660424_1732029336860293_7534802703665573534_n.jpg
CATEGORIES:Concerts en Guadeloupe
LOCATION:La Créole Jazz Club\, Pointe de la Verdure\, Le Gosier\, Guadelou
 pe\, 97190\, Guadeloupe\, Guadeloupe
GEO:16.206832;-61.50359980000002
X-APPLE-STRUCTURED-LOCATION;VALUE=URI;X-ADDRESS=Pointe de la Verdure\, Le G
 osier\, Guadeloupe\, 97190\, Guadeloupe\, Guadeloupe;X-APPLE-RADIUS=100;X-
 TITLE=La Créole Jazz Club:geo:16.206832,-61.50359980000002
END:VEVENT
BEGIN:VTIMEZONE
TZID:Europe/Paris
X-LIC-LOCATION:Europe/Paris
BEGIN:STANDARD
DTSTART:20171029T020000
TZOFFSETFROM:+0200
TZOFFSETTO:+0100
TZNAME:CET
END:STANDARD
END:VTIMEZONE
END:VCALENDAR