BEGIN:VCALENDAR
VERSION:2.0
PRODID:-//wp-events-plugin.com//7.2.3.1//EN
TZID:Europe/Paris
X-WR-TIMEZONE:Europe/Paris
BEGIN:VEVENT
UID:3775@bananierbleu.fr
DTSTART;TZID=America/Guadeloupe:20240413T200000
DTEND;TZID=America/Guadeloupe:20240413T200000
DTSTAMP:20240303T103217Z
URL:https://bananierbleu.fr/concerts-test/jazz-n-rhythms-feat-carlyle-barr
 iteau-andy-narell/
SUMMARY:Jazz 'n' Rhythms feat. Carlyle Barriteau & Andy Narell - Aleeze - 1
 3 Avr 24 20:00
DESCRIPTION:Carlyle Barriteau &amp\; Andy Narell with sxm jazz project band
 .
ATTACH;FMTTYPE=image/jpeg:https://bananierbleu.fr/wp-content/uploads/2024/
 03/JazznRhythms.jpg
CATEGORIES:Concerts dans la Caraïbe
LOCATION:Aleeze\, Madame Estate - A.T Illidge Road 117\, Philipsburg\, Sint
  Maarten\, Guadeloupe\, Guatemala
X-APPLE-STRUCTURED-LOCATION;VALUE=URI;X-ADDRESS=Madame Estate - A.T Illidge
  Road 117\, Philipsburg\, Sint Maarten\, Guadeloupe\, Guatemala;X-APPLE-RA
 DIUS=100;X-TITLE=Aleeze:geo:0,0
END:VEVENT
BEGIN:VTIMEZONE
TZID:America/Guadeloupe
X-LIC-LOCATION:America/Guadeloupe
BEGIN:STANDARD
DTSTART:20230414T200000
TZOFFSETFROM:-0400
TZOFFSETTO:-0400
TZNAME:AST
END:STANDARD
END:VTIMEZONE
END:VCALENDAR