BEGIN:VCALENDAR
VERSION:2.0
PRODID:-//wp-events-plugin.com//7.2.3.1//EN
TZID:Europe/Paris
X-WR-TIMEZONE:Europe/Paris
BEGIN:VEVENT
UID:2175@bananierbleu.fr
DTSTART;TZID=Europe/Paris:20170604T160000
DTEND;TZID=Europe/Paris:20170604T160000
DTSTAMP:20170329T104839Z
URL:https://bananierbleu.fr/concerts-test/jazzin-groslay-annick-tangorra-5
 tet/
SUMMARY:[Jazzin' Groslay] Annick Tangorra 5tet - Parc de la Mairie - 4 Juin
  17 16:00
DESCRIPTION:Annick Tangorra\, feat. Mario Canonge\, Zacharie Abraham\, Arna
 ud DOlmen &amp\; Adriano Tenorio DD.
ATTACH;FMTTYPE=image/jpeg:https://bananierbleu.fr/wp-content/uploads/2017/
 03/JazzinGroslay.jpg
CATEGORIES:Concerts en France
LOCATION:Parc de la Mairie\, Parc de la Mairie\, Groslay\, Île de France\,
  95410\, IleDeFrance\, France
GEO:48.9845926;2.352269999999976
X-APPLE-STRUCTURED-LOCATION;VALUE=URI;X-ADDRESS=Parc de la Mairie\, Groslay
 \, Île de France\, 95410\, IleDeFrance\, France;X-APPLE-RADIUS=100;X-TITL
 E=Parc de la Mairie:geo:48.9845926,2.352269999999976
END:VEVENT
BEGIN:VTIMEZONE
TZID:Europe/Paris
X-LIC-LOCATION:Europe/Paris
BEGIN:DAYLIGHT
DTSTART:20170326T030000
TZOFFSETFROM:+0100
TZOFFSETTO:+0200
TZNAME:CEST
END:DAYLIGHT
END:VTIMEZONE
END:VCALENDAR