BEGIN:VCALENDAR
VERSION:2.0
PRODID:-//wp-events-plugin.com//7.2.3.1//EN
TZID:Europe/Paris
X-WR-TIMEZONE:Europe/Paris
BEGIN:VEVENT
UID:3856@bananierbleu.fr
DTSTART;TZID=Europe/Paris:20241126T200000
DTEND;TZID=Europe/Paris:20241126T200000
DTSTAMP:20241123T202535Z
URL:https://bananierbleu.fr/concerts-test/jb-moundele-racines/
SUMMARY:JB Moundélé Racines - Le Son de la Terre - 26 Nov 24 20:00
DESCRIPTION:Ce nouveau projet de JB Moundele « RACINES» va à la rencontr
 e de l’essence de la musique africaine et du jazz\, en utilisant les ins
 truments acoustiques et organiques de la musique mandingue\, la kora et la
  calebasse. « J’avais depuis longtemps envie de réaliser un nouvel alb
 um et un groupe (après mon premier album suite africaines avec Kora et ba
 lafon)\, utilisant cette direction musicale dont j’aime énormément les
  sonorités\, les rythmes et les mélodies\, qui sont parmi les ancrages l
 es plus profonds de la musique d’Afrique de l’ouest\, mais aussi à vr
 ai dire de nombres de musiques afro-descendantes dont le blues\, le jazz\,
  le funk… »\n\n 	Saxophone – JB Moundele\n 	Kora – M’Bady Diabat
 é\n 	Percussions – Bruno Desbiolles\n
ATTACH;FMTTYPE=image/jpeg:https://bananierbleu.fr/wp-content/uploads/2024/
 11/JBMoundele.jpg
CATEGORIES:Concerts en France
LOCATION:Le Son de la Terre\, Port Montebello\, Paris\, Île de France\, 75
 005\, IleDeFrance\, France
X-APPLE-STRUCTURED-LOCATION;VALUE=URI;X-ADDRESS=Port Montebello\, Paris\, 
 Île de France\, 75005\, IleDeFrance\, France;X-APPLE-RADIUS=100;X-TITLE=L
 e Son de la Terre:geo:0,0
END:VEVENT
BEGIN:VTIMEZONE
TZID:Europe/Paris
X-LIC-LOCATION:Europe/Paris
BEGIN:STANDARD
DTSTART:20241027T020000
TZOFFSETFROM:+0200
TZOFFSETTO:+0100
TZNAME:CET
END:STANDARD
END:VTIMEZONE
END:VCALENDAR