BEGIN:VCALENDAR
VERSION:2.0
PRODID:-//wp-events-plugin.com//7.2.3.1//EN
TZID:Europe/Paris
X-WR-TIMEZONE:Europe/Paris
BEGIN:VEVENT
UID:1510@bananierbleu.fr
DTSTART;TZID=Europe/Paris:20150924T203000
DTEND;TZID=Europe/Paris:20150924T203000
DTSTAMP:20150922T115121Z
URL:https://bananierbleu.fr/concerts-test/jean-claude-gaspaldy-trio/
SUMMARY:Jean-Claude Gaspaldy trio - La Créole Jazz Club - 24 Sep 15 20:30
DESCRIPTION:Un Jeudi LIVE Spécial JAZZ CREOLE vous attend au Bar La Rhumer
 ie ce jeudi 24 sept 2015 avec le Jean-Claude Gaspaldy Trio! Attention\, le
 s horaires changent : 20h30-22h30! A très vite!
CATEGORIES:Concerts en Guadeloupe
LOCATION:La Créole Jazz Club\, Pointe de la Verdure\, Le Gosier\, Guadelou
 pe\, 97190\, Guadeloupe\, Guadeloupe
GEO:16.206832;-61.50359980000002
X-APPLE-STRUCTURED-LOCATION;VALUE=URI;X-ADDRESS=Pointe de la Verdure\, Le G
 osier\, Guadeloupe\, 97190\, Guadeloupe\, Guadeloupe;X-APPLE-RADIUS=100;X-
 TITLE=La Créole Jazz Club:geo:16.206832,-61.50359980000002
END:VEVENT
BEGIN:VTIMEZONE
TZID:Europe/Paris
X-LIC-LOCATION:Europe/Paris
BEGIN:DAYLIGHT
DTSTART:20150329T030000
TZOFFSETFROM:+0100
TZOFFSETTO:+0200
TZNAME:CEST
END:DAYLIGHT
END:VTIMEZONE
END:VCALENDAR