BEGIN:VCALENDAR
VERSION:2.0
PRODID:-//wp-events-plugin.com//7.2.3.1//EN
TZID:Europe/Paris
X-WR-TIMEZONE:Europe/Paris
BEGIN:VEVENT
UID:1770@bananierbleu.fr
DTSTART;TZID=Europe/Paris:20160416T183000
DTEND;TZID=Europe/Paris:20160416T183000
DTSTAMP:20160413T083853Z
URL:https://bananierbleu.fr/concerts-test/jean-michel-lesdel-fabrice-fanfa
 nt/
SUMMARY:Jean-Michel Lesdel & Fabrice Fanfant - Kouleur Kreol - 16 Avr 16 18
 :30
DESCRIPTION:
CATEGORIES:Concerts en Guadeloupe
LOCATION:Kouleur Kreol\, Chemin de la plage\, Sainte-Anne\, Guadeloupe\, 97
 180\, Guadeloupe\, Guadeloupe
GEO:16.223163;-61.383356
X-APPLE-STRUCTURED-LOCATION;VALUE=URI;X-ADDRESS=Chemin de la plage\, Sainte
 -Anne\, Guadeloupe\, 97180\, Guadeloupe\, Guadeloupe;X-APPLE-RADIUS=100;X-
 TITLE=Kouleur Kreol:geo:16.223163,-61.383356
END:VEVENT
BEGIN:VTIMEZONE
TZID:Europe/Paris
X-LIC-LOCATION:Europe/Paris
BEGIN:DAYLIGHT
DTSTART:20160327T030000
TZOFFSETFROM:+0100
TZOFFSETTO:+0200
TZNAME:CEST
END:DAYLIGHT
END:VTIMEZONE
END:VCALENDAR