BEGIN:VCALENDAR
VERSION:2.0
PRODID:-//wp-events-plugin.com//7.2.3.1//EN
TZID:Europe/Paris
X-WR-TIMEZONE:Europe/Paris
BEGIN:VEVENT
UID:3847@bananierbleu.fr
DTSTART;TZID=Europe/Paris:20241109T203000
DTEND;TZID=Europe/Paris:20241109T203000
DTSTAMP:20241011T160119Z
URL:https://bananierbleu.fr/concerts-test/jean-philippe-et-thierry-fanfant
 /
SUMMARY:Jean-Philippe et Thierry Fanfant - Jazz Club de l'Etoile - 9 Nov 24
  20:30
DESCRIPTION:\n\nAt the Fanfant family\, music is a family affair. Thierry a
 nd Jean-Philippe are on the same stage to share their musical projects of 
 the moment.\n\nFrom the Caribbean culture to their family heritage over mo
 re than 5 generations\, the two brothers have\, over time\, developed thei
 r uniqueness: a unique music\, tinged with their respective experiences an
 d encounters. It is an invitation to a four-handed trip.\n\n\nThierry Fanf
 ant (bass guitar)\, Jean-Philippe Fanfant (drums)\, Daniel Gassin (piano)\
 , Yannick Socal (saxophone)\, Robert Coliné 
ATTACH;FMTTYPE=image/jpeg:https://bananierbleu.fr/wp-content/uploads/2024/
 10/jean-philippe-et-thierry-fanfant.jpg
CATEGORIES:Concerts en France
LOCATION:Jazz Club de l'Etoile\, 81 Boulevard Gouvion Saint-Cyr\, Paris\, 
 Île de France\, 75017\, IleDeFrance\, France
GEO:48.879479;2.284943
X-APPLE-STRUCTURED-LOCATION;VALUE=URI;X-ADDRESS=81 Boulevard Gouvion Saint-
 Cyr\, Paris\, Île de France\, 75017\, IleDeFrance\, France;X-APPLE-RADIUS
 =100;X-TITLE=Jazz Club de l'Etoile:geo:48.879479,2.284943
END:VEVENT
BEGIN:VTIMEZONE
TZID:Europe/Paris
X-LIC-LOCATION:Europe/Paris
BEGIN:STANDARD
DTSTART:20241027T020000
TZOFFSETFROM:+0200
TZOFFSETTO:+0100
TZNAME:CET
END:STANDARD
END:VTIMEZONE
END:VCALENDAR