BEGIN:VCALENDAR
VERSION:2.0
PRODID:-//wp-events-plugin.com//7.2.3.1//EN
TZID:Europe/Paris
X-WR-TIMEZONE:Europe/Paris
BEGIN:VEVENT
UID:2056@bananierbleu.fr
DTSTART;TZID=Europe/Paris:20161222T200000
DTEND;TZID=Europe/Paris:20161222T200000
DTSTAMP:20161221T115708Z
URL:https://bananierbleu.fr/concerts-test/jelyen-baso-miranda-2/
SUMMARY:Jelyen Baso Miranda - La Créole Jazz Club - 22 Déc 16 20:00
DESCRIPTION:La Créole Jazz Club accueille le violoniste cubain Jelyen Baso
  Miranda\, pour un voyage au confluent du jazz et de la musique latine. Un
  répertoire qui plaira sans aucun doute aux amateurs de sonorités Latin 
 Jazz.\n\nJelyen Baso Miranda (violon)\, Jean-Claude Gaspaldy (guitare)\, A
 ndrès Moralès (percussions)
ATTACH;FMTTYPE=image/jpeg:https://bananierbleu.fr/wp-content/uploads/2016/
 12/15541987_1283293218400576_8952169999848605921_n.jpg
CATEGORIES:Concerts en Guadeloupe
LOCATION:La Créole Jazz Club\, Pointe de la Verdure\, Le Gosier\, Guadelou
 pe\, 97190\, Guadeloupe\, Guadeloupe
GEO:16.206832;-61.50359980000002
X-APPLE-STRUCTURED-LOCATION;VALUE=URI;X-ADDRESS=Pointe de la Verdure\, Le G
 osier\, Guadeloupe\, 97190\, Guadeloupe\, Guadeloupe;X-APPLE-RADIUS=100;X-
 TITLE=La Créole Jazz Club:geo:16.206832,-61.50359980000002
END:VEVENT
BEGIN:VTIMEZONE
TZID:Europe/Paris
X-LIC-LOCATION:Europe/Paris
BEGIN:STANDARD
DTSTART:20161030T020000
TZOFFSETFROM:+0200
TZOFFSETTO:+0100
TZNAME:CET
END:STANDARD
END:VTIMEZONE
END:VCALENDAR