BEGIN:VCALENDAR
VERSION:2.0
PRODID:-//wp-events-plugin.com//7.2.3.1//EN
TZID:Europe/Paris
X-WR-TIMEZONE:Europe/Paris
BEGIN:VEVENT
UID:2051@bananierbleu.fr
DTSTART;TZID=Europe/Paris:20161209T200000
DTEND;TZID=Europe/Paris:20161209T200000
DTSTAMP:20161209T075926Z
URL:https://bananierbleu.fr/concerts-test/jelyen-baso-miranda/
SUMMARY:Jelyen Baso Miranda - La Créole Jazz Club - 9 Déc 16 20:00
DESCRIPTION:La Créole Jazz Club invite le violoniste cubain Jelyen Baso Mi
 randa pour un répertoire Biguine Jazz proposé par Jean-Claude Gaspaldy. 
 L'occasion de venir apprécier une musique qui transcende les genres et le
 s frontières.\n\nJelyen Baso Miranda (violon)\nJean-Claude Gaspaldy (guit
 are)\nMarc Jalet (basse)\nDaniel Matthieu (batterie)
ATTACH;FMTTYPE=image/jpeg:https://bananierbleu.fr/wp-content/uploads/2016/
 12/15326034_1271111922952039_1866796178389297620_o.jpg
CATEGORIES:Concerts en Guadeloupe
LOCATION:La Créole Jazz Club\, Pointe de la Verdure\, Le Gosier\, Guadelou
 pe\, 97190\, Guadeloupe\, Guadeloupe
GEO:16.206832;-61.50359980000002
X-APPLE-STRUCTURED-LOCATION;VALUE=URI;X-ADDRESS=Pointe de la Verdure\, Le G
 osier\, Guadeloupe\, 97190\, Guadeloupe\, Guadeloupe;X-APPLE-RADIUS=100;X-
 TITLE=La Créole Jazz Club:geo:16.206832,-61.50359980000002
END:VEVENT
BEGIN:VTIMEZONE
TZID:Europe/Paris
X-LIC-LOCATION:Europe/Paris
BEGIN:STANDARD
DTSTART:20161030T020000
TZOFFSETFROM:+0200
TZOFFSETTO:+0100
TZNAME:CET
END:STANDARD
END:VTIMEZONE
END:VCALENDAR