BEGIN:VCALENDAR
VERSION:2.0
PRODID:-//wp-events-plugin.com//7.2.3.1//EN
TZID:Europe/Paris
X-WR-TIMEZONE:Europe/Paris
BEGIN:VEVENT
UID:245@bananierbleu.fr
DTSTART;TZID=Europe/Paris:20120705T200000
DTEND;TZID=Europe/Paris:20120705T230000
DTSTAMP:20120620T200537Z
URL:https://bananierbleu.fr/concerts-test/jeudis-du-jazz-tricia-evy/
SUMMARY:[Jeudis du Jazz] Tricia Evy - Hôtel Imperator - 5 Juil 12 20:00
DESCRIPTION:Hommage à Ella & Louis:Dan Barnett (Chant\, Trombone)\, David 
 Fackeure (Piano)\, Sébastien Girardot(Contrebasse) et Anthony Howe (Batte
 rie).
CATEGORIES:Concerts en France
LOCATION:Hôtel Imperator\, 15 Rue Gaston Boissier\, Nîmes\, 30900\, Franc
 e
GEO:43.8388602;4.352789600000051
X-APPLE-STRUCTURED-LOCATION;VALUE=URI;X-ADDRESS=15 Rue Gaston Boissier\, N
 îmes\, 30900\, France;X-APPLE-RADIUS=100;X-TITLE=Hôtel Imperator:geo:43.
 8388602,4.352789600000051
END:VEVENT
BEGIN:VTIMEZONE
TZID:Europe/Paris
X-LIC-LOCATION:Europe/Paris
BEGIN:DAYLIGHT
DTSTART:20120325T030000
TZOFFSETFROM:+0100
TZOFFSETTO:+0200
TZNAME:CEST
END:DAYLIGHT
END:VTIMEZONE
END:VCALENDAR