BEGIN:VCALENDAR
VERSION:2.0
PRODID:-//wp-events-plugin.com//7.2.3.1//EN
TZID:Europe/Paris
X-WR-TIMEZONE:Europe/Paris
BEGIN:VEVENT
UID:2934@bananierbleu.fr
DTSTART;TZID=America/Guadeloupe:20190613T200000
DTEND;TZID=America/Guadeloupe:20190613T200000
DTSTAMP:20190530T074528Z
URL:https://bananierbleu.fr/concerts-test/jil-petrus/
SUMMARY:Jil Petrus - Salle George Tarer - 13 Juin 19 20:00
DESCRIPTION:Jil Petrus en concert pour la sortie de son nouvel album "K"\, 
 réalisé en collaboration avec René Geoffroy. Feat. Joël Jean\, Willy J
 ean &amp\; Yannis Roset.
ATTACH;FMTTYPE=image/jpeg:https://bananierbleu.fr/wp-content/uploads/2019/
 05/JilPetrusK.png
CATEGORIES:Concerts en Guadeloupe
LOCATION:Salle George Tarer\, Lauricisque\, Pointe-à-Pitre\, Guadeloupe\, 
 97110\, Guadeloupe\, Guadeloupe
GEO:16.251191;-61.548039
X-APPLE-STRUCTURED-LOCATION;VALUE=URI;X-ADDRESS=Lauricisque\, Pointe-à-Pit
 re\, Guadeloupe\, 97110\, Guadeloupe\, Guadeloupe;X-APPLE-RADIUS=100;X-TIT
 LE=Salle George Tarer:geo:16.251191,-61.548039
END:VEVENT
BEGIN:VTIMEZONE
TZID:America/Guadeloupe
X-LIC-LOCATION:America/Guadeloupe
BEGIN:STANDARD
DTSTART:20180613T200000
TZOFFSETFROM:-0400
TZOFFSETTO:-0400
TZNAME:AST
END:STANDARD
END:VTIMEZONE
END:VCALENDAR