BEGIN:VCALENDAR
VERSION:2.0
PRODID:-//wp-events-plugin.com//7.2.3.1//EN
TZID:Europe/Paris
X-WR-TIMEZONE:Europe/Paris
BEGIN:VEVENT
UID:622@bananierbleu.fr
DTSTART;TZID=Europe/Paris:20131002T210000
DTEND;TZID=Europe/Paris:20131002T210000
DTSTAMP:20140518T201105Z
URL:https://bananierbleu.fr/concerts-test/jimmy-felvia-spirit-up-trio/
SUMMARY:Jimmy Felvia & Spirit Up Trio - Sunside - 2 Oct 13 21:00
DESCRIPTION:Venez découvrir JIMMY FELVIA et son nouveau concept SPIRIT UP 
 TRIO en concert le 02 octobre 2013 au Sunside Club Paris.\n\nJIMMY FELVIA 
 au Piano\nTHOMAS BELLON à la Batterie\nTHIERRY JEAN-PIERRE à la Basse\n\
 n"Ils ont choisi Le SUNSIDE pour leur concert de sortie d'album SPIRIT UP 
 TRIO. Ces musiciens hors pair ont réussi à harmoniser une palette d'infl
 uences musicales très large. En nous offrant  des featurings inattendus\
 ,  issus du Jazz\,  du Hip-Hop\,  du Rap\,  du Zoukr'nB et  du New So
 ul\, ils témoignent de leur immense générosité\, de leur talent et de 
 leur originalité. D'incroyables surprises vous attendent\, soyez attentif
 s".\n\nInfos et réservations: http://www.sunset-sunside.com/2013/10/arti
 ste/1200/1800/\nNB: Préventes disponibles sur le site du Sunset-Sunside a
 vec le code promo JMFLV210 (réduction de 5€ uniquement sur le site et v
 alable jusqu'à 18h le soir du concert)
CATEGORIES:Concerts en France
LOCATION:Sunside\, 60\, rue des Lombards\, Paris\, Île de France\, 75001\,
  IleDeFrance\, France
GEO:48.859937;2.347751
X-APPLE-STRUCTURED-LOCATION;VALUE=URI;X-ADDRESS=60\, rue des Lombards\, Par
 is\, Île de France\, 75001\, IleDeFrance\, France;X-APPLE-RADIUS=100;X-TI
 TLE=Sunside:geo:48.859937,2.347751
END:VEVENT
BEGIN:VTIMEZONE
TZID:Europe/Paris
X-LIC-LOCATION:Europe/Paris
BEGIN:DAYLIGHT
DTSTART:20130331T030000
TZOFFSETFROM:+0100
TZOFFSETTO:+0200
TZNAME:CEST
END:DAYLIGHT
END:VTIMEZONE
END:VCALENDAR