BEGIN:VCALENDAR
VERSION:2.0
PRODID:-//wp-events-plugin.com//7.2.3.1//EN
TZID:Europe/Paris
X-WR-TIMEZONE:Europe/Paris
BEGIN:VEVENT
UID:597@bananierbleu.fr
DTSTART;TZID=Europe/Paris:20131017T203000
DTEND;TZID=Europe/Paris:20131017T203000
DTSTAMP:20140518T201147Z
URL:https://bananierbleu.fr/concerts-test/joachim-des-ormeaux-featuring-jo
 nathan-jurion-trio-guests/
SUMMARY:Joachim des Ormeaux featuring Jonathan Jurion Trio + guests - Sunsi
 de - 17 Oct 13 20:30
DESCRIPTION:Pour la sortie de l’album “Horizon Jazz Kreol” - Festival
  “Jazz sur seine”\n\nJoachim des Ormeaux – vocal \; Jonathan Jurion 
 – piano \; Arnaud Dolmen – batterie \; Damine Nueva – c.basse\n"Parc
 e que le créole vous emporte au-delà des contours d’une île\, parce q
 ue la musique quand elle est authentique parle votre langue. Entrez dans l
 ’univers de Joachim des Ormeaux\, un doux maelstrom millimétré. Par un
 e voix particulière\, par un jazz doux et précis. Prenez part à l’exp
 érience… Au nouveau concept de l’artiste « Horizon Jazz Kreol »\, t
 itre éponyme du 1er album. Car\, le temps continue à s’étirer inexora
 blement…"\n\nPlus d'info sur le site du Sunset
CATEGORIES:Concerts en France
LOCATION:Sunside\, 60\, rue des Lombards\, Paris\, Île de France\, 75001\,
  IleDeFrance\, France
GEO:48.859937;2.347751
X-APPLE-STRUCTURED-LOCATION;VALUE=URI;X-ADDRESS=60\, rue des Lombards\, Par
 is\, Île de France\, 75001\, IleDeFrance\, France;X-APPLE-RADIUS=100;X-TI
 TLE=Sunside:geo:48.859937,2.347751
END:VEVENT
BEGIN:VTIMEZONE
TZID:Europe/Paris
X-LIC-LOCATION:Europe/Paris
BEGIN:DAYLIGHT
DTSTART:20130331T030000
TZOFFSETFROM:+0100
TZOFFSETTO:+0200
TZNAME:CEST
END:DAYLIGHT
END:VTIMEZONE
END:VCALENDAR