BEGIN:VCALENDAR
VERSION:2.0
PRODID:-//wp-events-plugin.com//7.2.3.1//EN
TZID:Europe/Paris
X-WR-TIMEZONE:Europe/Paris
BEGIN:VEVENT
UID:3159@bananierbleu.fr
DTSTART;TZID=America/Guadeloupe:20200808T203000
DTEND;TZID=America/Guadeloupe:20200808T203000
DTSTAMP:20210224T165258Z
URL:https://bananierbleu.fr/concerts-test/jocelyn-menard-caribbean-jazz-gr
 oup-8/
SUMMARY:Jocelyn Ménard Caribbean Jazz Group - New Ti'Paris - 8 Août 20 20
 :30
DESCRIPTION:Jocelyn Ménard (Saxophone)\nLeedyah Barlagne (Vocal)\nJean-Mic
 hel Lesdel (Piano)\nRégis Thérèse (Basse)\nSonny Troupé (Batterie)\nJo
 celyn Ménard Jazz Group Jocelyn Ménard cultive depuis plus de vingt ans 
 la fusion jazz caribéenne.\n&nbsp\;\n\n&nbsp\;
ATTACH;FMTTYPE=image/jpeg:https://bananierbleu.fr/wp-content/uploads/2020/
 07/109713384_595577944438700_1914791085952874592_o.jpg
CATEGORIES:Concerts en Guadeloupe
LOCATION:New Ti'Paris\, Perinet\, Le Gosier\, Guadeloupe\, 97190\, Guadelou
 pe\, Guadeloupe
GEO:16.2077962;-61.48492470000002
X-APPLE-STRUCTURED-LOCATION;VALUE=URI;X-ADDRESS=Perinet\, Le Gosier\, Guade
 loupe\, 97190\, Guadeloupe\, Guadeloupe;X-APPLE-RADIUS=100;X-TITLE=New Ti'
 Paris:geo:16.2077962,-61.48492470000002
END:VEVENT
BEGIN:VTIMEZONE
TZID:America/Guadeloupe
X-LIC-LOCATION:America/Guadeloupe
BEGIN:STANDARD
DTSTART:20190809T203000
TZOFFSETFROM:-0400
TZOFFSETTO:-0400
TZNAME:AST
END:STANDARD
END:VTIMEZONE
END:VCALENDAR