BEGIN:VCALENDAR
VERSION:2.0
PRODID:-//wp-events-plugin.com//7.2.3.1//EN
TZID:Europe/Paris
X-WR-TIMEZONE:Europe/Paris
BEGIN:VEVENT
UID:4098@bananierbleu.fr
DTSTART;TZID=America/Guadeloupe:20260312T200000
DTEND;TZID=America/Guadeloupe:20260312T200000
DTSTAMP:20260310T124812Z
URL:https://bananierbleu.fr/concerts-test/jocelyn-menard-caribbean-jazz-gr
 oup-sortie-de-lalbum-vibes-a-peyi-la/
SUMMARY:Jocelyn Ménard Caribbean Jazz Group - Sortie de l'album Vibes A P
 éyi La - La Créole Jazz Club - 12 Mar 26 20:00
DESCRIPTION:Jocelyn Ménard Caribbean Jazz Group. Sortie de l’album « Vi
 bes a péyi la ». Tarif prévente : 5€ (valable sur les 100 premières 
 places). Tarif hors prévente : 10€\nLe saxophoniste Jocelyn Ménard pr
 ésente son dernier album « Vibes A Péyi Là ». Á cette occasion\, vou
 s pourrez vous procurer l'album avec signature et photos avec le groupe.\n
 \n\n 	Jocelyn Ménard / Leader\, compositions\, sax\n 	Leedyah Barlagne / 
 voix\n 	Jean-Michel Lesdel / piano\n 	Fabrice Fanfant / basse\n 	Klod Kiav
 ué / percussions\n 	Stevie Landre / batterie\n
ATTACH;FMTTYPE=image/jpeg:https://bananierbleu.fr/wp-content/uploads/2026/
 03/JMenard.jpg
CATEGORIES:Concerts en Guadeloupe
LOCATION:La Créole Jazz Club\, Pointe de la Verdure\, Le Gosier\, Guadelou
 pe\, 97190\, Guadeloupe\, Guadeloupe
GEO:16.206832;-61.50359980000002
X-APPLE-STRUCTURED-LOCATION;VALUE=URI;X-ADDRESS=Pointe de la Verdure\, Le G
 osier\, Guadeloupe\, 97190\, Guadeloupe\, Guadeloupe;X-APPLE-RADIUS=100;X-
 TITLE=La Créole Jazz Club:geo:16.206832,-61.50359980000002
END:VEVENT
BEGIN:VTIMEZONE
TZID:America/Guadeloupe
X-LIC-LOCATION:America/Guadeloupe
BEGIN:STANDARD
DTSTART:20250312T200000
TZOFFSETFROM:-0400
TZOFFSETTO:-0400
TZNAME:AST
END:STANDARD
END:VTIMEZONE
END:VCALENDAR