BEGIN:VCALENDAR
VERSION:2.0
PRODID:-//wp-events-plugin.com//7.2.3.1//EN
TZID:Europe/Paris
X-WR-TIMEZONE:Europe/Paris
BEGIN:VEVENT
UID:3748@bananierbleu.fr
DTSTART;TZID=Europe/Paris:20240511T213000
DTEND;TZID=Europe/Paris:20240511T213000
DTSTAMP:20240121T171531Z
URL:https://bananierbleu.fr/concerts-test/jocelyn-menard-caribbean-jazz-qu
 artet-3/
SUMMARY:Jocelyn Menard Caribbean Jazz Quartet - le Baiser Salé - 11 Mai 24
  21:30
DESCRIPTION:\n\nJOCELYN MENARD sax\nFABRICE DEVIENNE piano\nREGIS THERESE b
 asse\nYOANN DANIER batterie\n\nRéservation possible sur le site jusqu'à 
 2h avant le début du concert\nN’hésitez pas à nous appeler au 01.42.3
 3.37.71\n\n\n\nA la croisée des chemins entre la Guadeloupe et son Canada
  natal\, Jocelyn Ménard nous offre un voyage musical où le son chaleureu
 x de son saxophone se mêle aux rythmes de la Caraïbe. Le leader\, saxoph
 oniste et compositeur\, originaire de Montréal\, met ainsi à profit son 
 expérience\, depuis plus de trente ans qu’il est établi en Guadeloupe.
  Il poursuit la voie initiée avec son album « Terre-Mère » – et mêm
 e encore plus tôt au sein du trio Guanada – en proposant des compositio
 ns qui mêlent jazz\, gwoka\, funk\, biguine et même zouk\, dans la droit
 e ligne d’orchestres mythiques comme le Caraïbes Jazz Ensemble\, Tropic
  Fusion\, Fal Frett etc.\n\nLe Jocelyn Ménard Caribbean Jazz Group évolu
 e déjà depuis plusieurs années en Guadeloupe et dans la Caraïbe. A l
 ’occasion de la 18ème édition des Caribéennes de Mai\, le saxophonist
 e rassemble autour de lui une équipe constituée de talentueux musiciens 
 : le pianiste Fabrice Devienne\, le bassiste Régis Thérèse et le batteu
 r Yoann Danier.\n\nOn passe ainsi d’un padjanbel à un blues\, d’une b
 iguine à un mendé\, dans un registre où latin jazz et swing ne sont jam
 ais loin. La musique du Caribbean Jazz Group prend la définition du mot f
 usion au pied de la lettre et vous laissera tout sauf indifférent\, dans 
 une ambiance où la température grimpe sans limite.
ATTACH;FMTTYPE=image/jpeg:https://bananierbleu.fr/wp-content/uploads/2024/
 01/248-jocelyn-menard-site.jpg
CATEGORIES:Concerts en France
LOCATION:le Baiser Salé\, 58\, rue des Lombards\, Paris\, Île de France\,
  75001\, IleDeFrance\, France
GEO:48.8598;2.34791
X-APPLE-STRUCTURED-LOCATION;VALUE=URI;X-ADDRESS=58\, rue des Lombards\, Par
 is\, Île de France\, 75001\, IleDeFrance\, France;X-APPLE-RADIUS=100;X-TI
 TLE=le Baiser Salé:geo:48.8598,2.34791
END:VEVENT
BEGIN:VTIMEZONE
TZID:Europe/Paris
X-LIC-LOCATION:Europe/Paris
BEGIN:DAYLIGHT
DTSTART:20240331T030000
TZOFFSETFROM:+0100
TZOFFSETTO:+0200
TZNAME:CEST
END:DAYLIGHT
END:VTIMEZONE
END:VCALENDAR