BEGIN:VCALENDAR
VERSION:2.0
PRODID:-//wp-events-plugin.com//7.2.3.1//EN
TZID:Europe/Paris
X-WR-TIMEZONE:Europe/Paris
BEGIN:VEVENT
UID:2414@bananierbleu.fr
DTSTART;TZID=Europe/Paris:20171020T203000
DTEND;TZID=Europe/Paris:20171020T203000
DTSTAMP:20171016T135215Z
URL:https://bananierbleu.fr/concerts-test/jocelyn-menard-jazz-group-14/
SUMMARY:Jocelyn Ménard Jazz Group - La Créole Jazz Club - 20 Oct 17 20:30
DESCRIPTION:La Créole Jazz Club reçoit le Jocelyn Ménard Jazz Group. Dan
 s la continuité de son projet Gwanada et de son album "Terre Mère"\, Joc
 elyn Ménard présentera ses compositions originales\, où rythmiques et h
 armonies caribéennes se mêlent au bop et au blues d'Amérique.\n\nJocely
 n Ménard (Saxophone)\nJean-Michel Lesdel (Piano)\nFabrice Fanfant (Basse)
 \nJoseph Cazimir (Batterie)
ATTACH;FMTTYPE=image/jpeg:https://bananierbleu.fr/wp-content/uploads/2017/
 10/22519281_1587270228002872_2570989183295444805_n.jpg
CATEGORIES:Concerts en Guadeloupe
LOCATION:La Créole Jazz Club\, Pointe de la Verdure\, Le Gosier\, Guadelou
 pe\, 97190\, Guadeloupe\, Guadeloupe
GEO:16.206832;-61.50359980000002
X-APPLE-STRUCTURED-LOCATION;VALUE=URI;X-ADDRESS=Pointe de la Verdure\, Le G
 osier\, Guadeloupe\, 97190\, Guadeloupe\, Guadeloupe;X-APPLE-RADIUS=100;X-
 TITLE=La Créole Jazz Club:geo:16.206832,-61.50359980000002
END:VEVENT
BEGIN:VTIMEZONE
TZID:Europe/Paris
X-LIC-LOCATION:Europe/Paris
BEGIN:DAYLIGHT
DTSTART:20170326T030000
TZOFFSETFROM:+0100
TZOFFSETTO:+0200
TZNAME:CEST
END:DAYLIGHT
END:VTIMEZONE
END:VCALENDAR