BEGIN:VCALENDAR
VERSION:2.0
PRODID:-//wp-events-plugin.com//7.2.3.1//EN
TZID:Europe/Paris
X-WR-TIMEZONE:Europe/Paris
BEGIN:VEVENT
UID:2118@bananierbleu.fr
DTSTART;TZID=Europe/Paris:20170217T200000
DTEND;TZID=Europe/Paris:20170217T200000
DTSTAMP:20170215T105741Z
URL:https://bananierbleu.fr/concerts-test/jocelyn-menard-jazz-group-9/
SUMMARY:Jocelyn Ménard Jazz Group - La Créole Jazz Club - 17 Fév 17 20:0
 0
DESCRIPTION:Attention ! Dans le cadre de son prochain Jazz Week-end\, La Cr
 éole Jazz Club reçoit le saxophoniste Jocelyn Ménard\, pour un concert 
 exceptionnel. Venez découvrir ses compositions originales où rythmiques 
 et harmonies caribéennes se mêlent au bop et au blues d'Amérique. Une m
 usique à travers laquelle Jocelyn Ménard revendique ce métissage qui ra
 conte finalement sa propre vie.\n\nJocelyn Ménard (saxophones)\nJean-Mich
 el Lesdel (claviers)\nFabrice Fanfant (basse)\nJérôme Castry (batterie)
ATTACH;FMTTYPE=image/jpeg:https://bananierbleu.fr/wp-content/uploads/2017/
 02/jocelyn.jpg
CATEGORIES:Concerts en Guadeloupe
LOCATION:La Créole Jazz Club\, Pointe de la Verdure\, Le Gosier\, Guadelou
 pe\, 97190\, Guadeloupe\, Guadeloupe
GEO:16.206832;-61.50359980000002
X-APPLE-STRUCTURED-LOCATION;VALUE=URI;X-ADDRESS=Pointe de la Verdure\, Le G
 osier\, Guadeloupe\, 97190\, Guadeloupe\, Guadeloupe;X-APPLE-RADIUS=100;X-
 TITLE=La Créole Jazz Club:geo:16.206832,-61.50359980000002
END:VEVENT
BEGIN:VTIMEZONE
TZID:Europe/Paris
X-LIC-LOCATION:Europe/Paris
BEGIN:STANDARD
DTSTART:20161030T020000
TZOFFSETFROM:+0200
TZOFFSETTO:+0100
TZNAME:CET
END:STANDARD
END:VTIMEZONE
END:VCALENDAR