BEGIN:VCALENDAR
VERSION:2.0
PRODID:-//wp-events-plugin.com//7.2.3.1//EN
TZID:Europe/Paris
X-WR-TIMEZONE:Europe/Paris
BEGIN:VEVENT
UID:3950@bananierbleu.fr
DTSTART;TZID=America/Guadeloupe:20250510T193000
DTEND;TZID=America/Guadeloupe:20250510T193000
DTSTAMP:20250507T075309Z
URL:https://bananierbleu.fr/concerts-test/jocelyn-menard-jazz-quartet-3/
SUMMARY:Jocelyn Ménard Jazz Quartet - Le Ti'Paris - 10 Mai 25 19:30
DESCRIPTION:Jocelyn Ménard (sax)\, Jonathan Jurion (pno)\, Max Fontès (cb
 )\, Raymond Grego (dms)
ATTACH;FMTTYPE=image/jpeg:https://bananierbleu.fr/wp-content/uploads/2025/
 05/JMenardTiParis250510.jpg
CATEGORIES:Concerts en Guadeloupe
LOCATION:Le Ti'Paris\, Perinet\, Le Gosier\, Guadeloupe\, 97190\, Guadeloup
 e\, Guadeloupe
GEO:16.207796;-61.484925
X-APPLE-STRUCTURED-LOCATION;VALUE=URI;X-ADDRESS=Perinet\, Le Gosier\, Guade
 loupe\, 97190\, Guadeloupe\, Guadeloupe;X-APPLE-RADIUS=100;X-TITLE=Le Ti'P
 aris:geo:16.207796,-61.484925
END:VEVENT
BEGIN:VTIMEZONE
TZID:America/Guadeloupe
X-LIC-LOCATION:America/Guadeloupe
BEGIN:STANDARD
DTSTART:20240510T193000
TZOFFSETFROM:-0400
TZOFFSETTO:-0400
TZNAME:AST
END:STANDARD
END:VTIMEZONE
END:VCALENDAR