BEGIN:VCALENDAR
VERSION:2.0
PRODID:-//wp-events-plugin.com//7.2.3.1//EN
TZID:Europe/Paris
X-WR-TIMEZONE:Europe/Paris
BEGIN:VEVENT
UID:439@bananierbleu.fr
DTSTART;TZID=Europe/Paris:20130327T203000
DTEND;TZID=Europe/Paris:20130327T203000
DTSTAMP:20130320T202559Z
URL:https://bananierbleu.fr/concerts-test/jonathan-jurion-trio-4/
SUMMARY:Jonathan Jurion trio - 38Riv' - Jazz Club & Bar - 27 Mar 13 20:30
DESCRIPTION:"Jonathan Jurion Trio"\nsera au 38 Riv le samedi 16 Mars 2013 
 à 20H30\nSAVE THE DATE !\n\nAprès avoir partagé les scènes jazz aux c
 ôtés de Kenny Garrett\, Christian Laviso\, Andy Narrell\, Jacques Schwar
 z-Bart et bien d’autres\, Jonathan Jurion présente aujourd’hui son tr
 io "Green Wagon”. Un pianiste de jazz au sens du swing extraordinaire\, 
 un groove continuel nourri de jazz contemporain et de rythmes traditionnel
 s antillais savamment dosés.\nUne section rythmique composée du batteur 
 Arnaud Dolmen et du contrebassiste Damian Nueva qui apporte un drive puiss
 ant et fluide digne des grands trios de jazz tels ceux de Brad Meldhau\, A
 lain Jean-Marie et Gerald Clayton.\nUne musique moderne\, une vraie joie c
 ommunicative !
CATEGORIES:Concerts en France
LOCATION:38Riv' - Jazz Club & Bar\, 38\, rue de Rivoli\, Paris\, Île de Fr
 ance\, 75004\, IleDeFrance\, France
GEO:48.856461;2.356461
X-APPLE-STRUCTURED-LOCATION;VALUE=URI;X-ADDRESS=38\, rue de Rivoli\, Paris\
 , Île de France\, 75004\, IleDeFrance\, France;X-APPLE-RADIUS=100;X-TITLE
 =38Riv' - Jazz Club & Bar:geo:48.856461,2.356461
END:VEVENT
BEGIN:VTIMEZONE
TZID:Europe/Paris
X-LIC-LOCATION:Europe/Paris
BEGIN:STANDARD
DTSTART:20121028T020000
TZOFFSETFROM:+0200
TZOFFSETTO:+0100
TZNAME:CET
END:STANDARD
END:VTIMEZONE
END:VCALENDAR