BEGIN:VCALENDAR
VERSION:2.0
PRODID:-//wp-events-plugin.com//7.2.3.1//EN
TZID:Europe/Paris
X-WR-TIMEZONE:Europe/Paris
BEGIN:VEVENT
UID:363@bananierbleu.fr
DTSTART;TZID=Europe/Paris:20130119T213000
DTEND;TZID=Europe/Paris:20130119T230000
DTSTAMP:20121227T112330Z
URL:https://bananierbleu.fr/concerts-test/jonathan-jurion-trio/
SUMMARY:Jonathan Jurion trio - le Baiser Salé - 19 Jan 13 21:30
DESCRIPTION:"Jonathan Jurion Trio" sera au Baiser Salé le samedi 19 janvie
 r 2013 à 21h30\n\nSOYEZ AU RENDEZ-VOUS\, DES SURPRISES VOUS Y ATTENDENT !
 \n\nCommander vos billets sur :\n-------------------------------------\nMO
 XITY : http://www.moxity.com/events/jonathan-jurion-trio_3\nFNAC.COM : htt
 p://www.fnacspectacles.com/place-spectacle/manifestation/Jazz-JONATHAN-JUR
 ...\nBILLETREDUC : http://www.billetreduc.com/82675/evt.htm\n\n\n---------
 -----------------------------------------\nJonathan Jurion Trio "Green Wag
 on"\n--------------------------------------------------\n\nPianiste\, comp
 ositeur\, arrangeur\, Jonathan Jurion\, présente son nouveau projet trio 
 "Green Wagon".\n\nCe trio nous inonde de leur musique\, ressuscitant d'une
  façon magistrale le rayonnement du trio jazz.\nUn sens du swing infailli
 ble\, une connaissance parfaite et subtile des musiques traditionnelles an
 tillaises et du jazz moderne\, une générosité\, une complicité éviden
 te qu'on ressent dès les premières notes.\n\nLa section rythmique compos
 ée du batteur Arnaud Dolmen et du contrebassiste Damian Nueva apporte un 
 drive à la fois puissant et fluide\, d'une forte présence que l'on retro
 uve dans les grands trios de jazz tels que ceux de Chick Corea\, Brad Meld
 hau\, Alain Jean-Marie\, Mario Canonge et Shaï Maestro.\n\nJonathan Jurio
 n Trio une musique moderne et irrésistible\, une vraie joie communicative
  !\n\n"Green Wagon" : Jonathan Jurion (piano)\, Damian Nueva (basse) et Ar
 naud Dolmen (batterie).\n\n\n---------------------------------------------
 ---------\nDécouvrez L'univers de Jonathan Jurion\n----------------------
 --------------------------------\nVidéos : http://youtu.be/1qIOxhWdDKw\n\
 nExtrait audio soundcloud du projet "Green Wagon" : https://soundcloud.com
 /jonathan-jurion/jonathan-jurion-trio-extrait
CATEGORIES:Concerts en France
LOCATION:le Baiser Salé\, 58\, rue des Lombards\, Paris\, Île de France\,
  75001\, IleDeFrance\, France
GEO:48.8598;2.34791
X-APPLE-STRUCTURED-LOCATION;VALUE=URI;X-ADDRESS=58\, rue des Lombards\, Par
 is\, Île de France\, 75001\, IleDeFrance\, France;X-APPLE-RADIUS=100;X-TI
 TLE=le Baiser Salé:geo:48.8598,2.34791
END:VEVENT
BEGIN:VTIMEZONE
TZID:Europe/Paris
X-LIC-LOCATION:Europe/Paris
BEGIN:STANDARD
DTSTART:20121028T020000
TZOFFSETFROM:+0200
TZOFFSETTO:+0100
TZNAME:CET
END:STANDARD
END:VTIMEZONE
END:VCALENDAR