BEGIN:VCALENDAR
VERSION:2.0
PRODID:-//wp-events-plugin.com//7.2.3.1//EN
TZID:Europe/Paris
X-WR-TIMEZONE:Europe/Paris
BEGIN:VEVENT
UID:3819@bananierbleu.fr
DTSTART;TZID=America/Guadeloupe:20240612T200000
DTEND;TZID=America/Guadeloupe:20240612T200000
DTSTAMP:20240521T132844Z
URL:https://bananierbleu.fr/concerts-test/jose-privat-feat-gregory-privat-
 tricia-evy-festivalpremiererencontreautourdupiano16/
SUMMARY:José Privat feat. Grégory Privat & Tricia Evy #FestivalPremiereRe
 ncontreAutourDuPiano16 - Mémorial ACTe - 12 Juin 24 20:00
DESCRIPTION:José Privat\, à l’orgue Hammond\, vient présenter son quat
 rième album\, Clin d’Œil\, dans la lignée d’Eddy Louisss\, accompag
 né de Ralph Lavital\, Elvin Bironien et Tilo Bertholo. Il invite égaleme
 nt Tricia Evy et son fils\, Grégory Privat.Tarif : 15 € en prévente. 2
 0 € sur place le jour du concert.\n\n
ATTACH;FMTTYPE=image/jpeg:https://bananierbleu.fr/wp-content/uploads/2024/
 05/flyerjoseprivat.jpg
CATEGORIES:Concerts en Guadeloupe
LOCATION:Mémorial ACTe\, rue Raspail\, Pointe-à-Pitre\, Guadeloupe\, 9711
 0\, Guadeloupe\, Guadeloupe
GEO:16.231435;-61.53396650000002
X-APPLE-STRUCTURED-LOCATION;VALUE=URI;X-ADDRESS=rue Raspail\, Pointe-à-Pit
 re\, Guadeloupe\, 97110\, Guadeloupe\, Guadeloupe;X-APPLE-RADIUS=100;X-TIT
 LE=Mémorial ACTe:geo:16.231435,-61.53396650000002
END:VEVENT
BEGIN:VTIMEZONE
TZID:America/Guadeloupe
X-LIC-LOCATION:America/Guadeloupe
BEGIN:STANDARD
DTSTART:20230613T200000
TZOFFSETFROM:-0400
TZOFFSETTO:-0400
TZNAME:AST
END:STANDARD
END:VTIMEZONE
END:VCALENDAR