BEGIN:VCALENDAR
VERSION:2.0
PRODID:-//wp-events-plugin.com//7.2.3.1//EN
TZID:Europe/Paris
X-WR-TIMEZONE:Europe/Paris
BEGIN:VEVENT
UID:540@bananierbleu.fr
DTSTART;TZID=Europe/Paris:20130531T200000
DTEND;TZID=Europe/Paris:20130531T200000
DTSTAMP:20130531T100638Z
URL:https://bananierbleu.fr/concerts-test/jose-privat-trio/
SUMMARY:José Privat Trio - Calebasse Café - 31 Mai 13 20:00
DESCRIPTION:Autour de l'orgue Hammond avec José Privat\, Jean-Marc Albicy\
 , Romain Palude
CATEGORIES:Concerts en Martinique
LOCATION:Calebasse Café\, 19\, bd Allègre\, le Marin\, Martinique\, 97290
 \, Martinique\, Martinique
GEO:14.4696191;-60.870746499999996
X-APPLE-STRUCTURED-LOCATION;VALUE=URI;X-ADDRESS=19\, bd Allègre\, le Marin
 \, Martinique\, 97290\, Martinique\, Martinique;X-APPLE-RADIUS=100;X-TITLE
 =Calebasse Café:geo:14.4696191,-60.870746499999996
END:VEVENT
BEGIN:VTIMEZONE
TZID:Europe/Paris
X-LIC-LOCATION:Europe/Paris
BEGIN:DAYLIGHT
DTSTART:20130331T030000
TZOFFSETFROM:+0100
TZOFFSETTO:+0200
TZNAME:CEST
END:DAYLIGHT
END:VTIMEZONE
END:VCALENDAR