BEGIN:VCALENDAR
VERSION:2.0
PRODID:-//wp-events-plugin.com//7.2.3.1//EN
TZID:Europe/Paris
X-WR-TIMEZONE:Europe/Paris
BEGIN:VEVENT
UID:3798@bananierbleu.fr
DTSTART;TZID=Europe/Paris:20240504T210000
DTEND;TZID=Europe/Paris:20240504T210000
DTSTAMP:20240325T164519Z
URL:https://bananierbleu.fr/concerts-test/josiah-woodson-quintessentiel-3/
SUMMARY:Josiah Woodson Quint'Essentiel - le Baiser Salé - 4 Mai 24 21:00
DESCRIPTION:\n\nJOSIAH WOODSON trompette/guitare\nDANIEL GASSIN piano\nPLUM
 E sax alto\nZACHARIE ABRAHAM cbasse\nTILO BERTHOLO batterie\n\n\nQuint’e
 ssentiel: Quatre éléments dynamiques interagissent les uns avec les autr
 es de façon terriblement merveilleuse\, encadrant la façon dont nous voy
 ons notre monde. Tout aussi essentiel. Tout aussi indispensable. Tous tang
 ible sauf un. Le cinquième élément. Le rudiment immatériel. Amour. Gr
 âce. Paix. Espoirs. Que l'on utilise la prévisibilité apparente stable 
 du sol ou de la nature volatile et transformatrice de feu\, nous utilisons
  les complexités simples de la nature à inspirer la créativité.\nQuint
 ’essentiel\, un catalyseur de l’espoir.
ATTACH;FMTTYPE=image/jpeg:https://bananierbleu.fr/wp-content/uploads/2024/
 03/685-Josiah-Woodson-Quintessentiel.jpg
CATEGORIES:Concerts en France
LOCATION:le Baiser Salé\, 58\, rue des Lombards\, Paris\, Île de France\,
  75001\, IleDeFrance\, France
GEO:48.8598;2.34791
X-APPLE-STRUCTURED-LOCATION;VALUE=URI;X-ADDRESS=58\, rue des Lombards\, Par
 is\, Île de France\, 75001\, IleDeFrance\, France;X-APPLE-RADIUS=100;X-TI
 TLE=le Baiser Salé:geo:48.8598,2.34791
END:VEVENT
BEGIN:VTIMEZONE
TZID:Europe/Paris
X-LIC-LOCATION:Europe/Paris
BEGIN:DAYLIGHT
DTSTART:20240331T030000
TZOFFSETFROM:+0100
TZOFFSETTO:+0200
TZNAME:CEST
END:DAYLIGHT
END:VTIMEZONE
END:VCALENDAR